RnaSeqTutorial 0.0.10 Nicolas Delhomme
 | Snapshot Date: 2012-09-23 10:15:26 -0700 (Sun, 23 Sep 2012) |  | URL: https://hedgehog.fhcrc.org/bioc-data/trunk/experiment/pkgs/RnaSeqTutorial |  | Last Changed Rev: 2116 / Revision: 2159 |  | Last Changed Date: 2012-08-09 05:47:37 -0700 (Thu, 09 Aug 2012) |  
  | lamb2  | Linux (openSUSE 11.4) / x86_64  |  OK  |  OK  |  | 
| moscato2  | Windows Server 2008 R2 Enterprise SP1 (64-bit) / x64  |  OK  |  OK  | [ OK ] | 
| petty  | Mac OS X Leopard (10.5.8) / i386  |  OK  |  OK  |  OK  | 
install for i386
* installing *source* package 'RnaSeqTutorial' ...
** data
** inst
** help
*** installing help indices
** building package indices
** installing vignettes
   'RnaSeqTutorial.Rnw' 
** testing if installed package can be loaded
Warning: replacing previous import 'coerce' when loading 'intervals'
Warning: replacing previous import 'initialize' when loading 'intervals'
install for x64
* installing *source* package 'RnaSeqTutorial' ...
** testing if installed package can be loaded
Warning: replacing previous import 'coerce' when loading 'intervals'
Warning: replacing previous import 'initialize' when loading 'intervals'
* MD5 sums
packaged installation of 'RnaSeqTutorial' as RnaSeqTutorial_0.0.10.zip
* DONE (RnaSeqTutorial)