cheung2010 0.0.25 Vince Carey
 | Snapshot Date: 2012-09-23 10:15:26 -0700 (Sun, 23 Sep 2012) |  | URL: https://hedgehog.fhcrc.org/bioc-data/trunk/experiment/pkgs/cheung2010 |  | Last Changed Rev: 2079 / Revision: 2159 |  | Last Changed Date: 2012-06-03 09:31:17 -0700 (Sun, 03 Jun 2012) |  
  | lamb2  | Linux (openSUSE 11.4) / x86_64  |  OK  |  OK  |  | 
| moscato2  | Windows Server 2008 R2 Enterprise SP1 (64-bit) / x64  |  OK  |  OK  |  OK  | 
| petty  | Mac OS X Leopard (10.5.8) / i386  |  OK  |  OK  | [ OK ] | 
>>>>>>> 
>>>>>>> INSTALLATION WITH 'R CMD INSTALL --preclean --no-multiarch --library=cheung2010.buildbin-libdir cheung2010_0.0.25.tar.gz'
>>>>>>> 
* installing *source* package 'cheung2010' ...
** R
** data
** inst
** preparing package for lazy loading
** help
*** installing help indices
** building package indices
** installing vignettes
   'cheungTrans.Rnw' 
** testing if installed package can be loaded
* DONE (cheung2010)