MAQCsubsetAFX 1.0.9 Laurent Gatto
 | Snapshot Date: 2013-03-24 09:15:27 -0700 (Sun, 24 Mar 2013) |  | URL: https://hedgehog.fhcrc.org/bioc-data/trunk/experiment/pkgs/MAQCsubsetAFX |  | Last Changed Rev: 2284 / Revision: 2286 |  | Last Changed Date: 2013-03-22 14:23:31 -0700 (Fri, 22 Mar 2013) |  
  | lamb1  | Linux (openSUSE 12.1) / x86_64  |  OK  |  OK  |  | 
| moscato1  | Windows Server 2008 R2 Enterprise SP1 (64-bit) / x64  |  OK  |  OK  |  OK  | 
| perceval  | Mac OS X Leopard (10.5.8) / i386  |  OK  |  OK  | [ OK ] | 
>>>>>>> 
>>>>>>> INSTALLATION WITH 'R CMD INSTALL --preclean --no-multiarch --library=MAQCsubsetAFX.buildbin-libdir MAQCsubsetAFX_1.0.9.tar.gz'
>>>>>>> 
* installing *source* package 'MAQCsubsetAFX' ...
** data
** inst
** help
*** installing help indices
** building package indices
** installing vignettes
   'MAQCsubsetAFX.Rnw' 
** testing if installed package can be loaded
* DONE (MAQCsubsetAFX)