Mulder2012 0.2.2 Xin Wang
 | Snapshot Date: 2013-03-24 09:15:27 -0700 (Sun, 24 Mar 2013) |  | URL: https://hedgehog.fhcrc.org/bioc-data/trunk/experiment/pkgs/Mulder2012 |  | Last Changed Rev: 2168 / Revision: 2286 |  | Last Changed Date: 2012-10-01 10:57:19 -0700 (Mon, 01 Oct 2012) |  
  | lamb1  | Linux (openSUSE 12.1) / x86_64  |  OK  |  OK  |  | 
| moscato1  | Windows Server 2008 R2 Enterprise SP1 (64-bit) / x64  |  OK  |  OK  |  OK  | 
| perceval  | Mac OS X Leopard (10.5.8) / i386  |  OK  |  OK  | [ OK ] | 
>>>>>>> 
>>>>>>> INSTALLATION WITH 'R CMD INSTALL --preclean --no-multiarch --library=Mulder2012.buildbin-libdir Mulder2012_0.2.2.tar.gz'
>>>>>>> 
* installing *source* package 'Mulder2012' ...
** R
** data
** inst
** preparing package for lazy loading
Warning in .simpleDuplicateClass(def, prev) :
  A specification for class "numeric_Or_integer" in package 'PANR' seems equivalent to one from package 'HTSanalyzeR' and is not turning on duplicate class definitions for this class
Warning in .simpleDuplicateClass(def, prev) :
  A specification for S3 class "AsIs" in package 'XMLRPC' seems equivalent to one from package 'IRanges' and is not turning on duplicate class definitions for this class
** help
*** installing help indices
** building package indices
** installing vignettes
   'Mulder2012-Vignette.Rnw' 
** testing if installed package can be loaded
Warning in .simpleDuplicateClass(def, prev) :
  A specification for class "numeric_Or_integer" in package 'PANR' seems equivalent to one from package 'HTSanalyzeR' and is not turning on duplicate class definitions for this class
Warning in .simpleDuplicateClass(def, prev) :
  A specification for S3 class "AsIs" in package 'XMLRPC' seems equivalent to one from package 'IRanges' and is not turning on duplicate class definitions for this class
* DONE (Mulder2012)