gatingMLData 1.0.6 Nishant Gopalakrishnan
 | Snapshot Date: 2013-03-24 09:15:27 -0700 (Sun, 24 Mar 2013) |  | URL: https://hedgehog.fhcrc.org/bioc-data/trunk/experiment/pkgs/gatingMLData |  | Last Changed Rev: 2168 / Revision: 2286 |  | Last Changed Date: 2012-10-01 10:57:19 -0700 (Mon, 01 Oct 2012) |  
  | lamb1  | Linux (openSUSE 12.1) / x86_64  |  OK  |  OK  |  | 
| moscato1  | Windows Server 2008 R2 Enterprise SP1 (64-bit) / x64  |  OK  |  OK  |  OK  | 
| perceval  | Mac OS X Leopard (10.5.8) / i386  |  OK  | [ OK ] |  OK  | 
* using log directory '/Users/biocbuild/bbs-2.11-data-experiment/meat/gatingMLData.Rcheck'
* using R version 2.15.3 (2013-03-01)
* using platform: i386-apple-darwin9.8.0 (32-bit)
* using session charset: ASCII
* using option '--no-vignettes'
* checking for file 'gatingMLData/DESCRIPTION' ... OK
* checking extension type ... Package
* this is package 'gatingMLData' version '1.0.6'
* checking package namespace information ... OK
* checking package dependencies ... OK
* checking if this is a source package ... OK
* checking if there is a namespace ... OK
* checking whether package 'gatingMLData' can be installed ... OK
* checking installed package size ... NOTE
  installed size is 14.4Mb
  sub-directories of 1Mb or more:
    extdata  14.3Mb
* checking package directory ... OK
* checking for portable file names ... OK
* checking for sufficient/correct file permissions ... OK
* checking DESCRIPTION meta-information ... OK
* checking top-level files ... OK
* checking for left-over files ... OK
* checking index information ... OK
* checking package subdirectories ... OK
* checking R files for non-ASCII characters ... OK
* checking R files for syntax errors ... OK
* checking whether the package can be loaded ... OK
* checking whether the package can be loaded with stated dependencies ... OK
* checking whether the package can be unloaded cleanly ... OK
* checking whether the namespace can be loaded with stated dependencies ... OK
* checking whether the namespace can be unloaded cleanly ... OK
* checking for unstated dependencies in R code ... OK
* checking S3 generic/method consistency ... OK
* checking replacement functions ... OK
* checking foreign function calls ... OK
* checking R code for possible problems ... OK
* checking Rd files ... OK
* checking Rd metadata ... OK
* checking Rd cross-references ... OK
* checking for missing documentation entries ... OK
* checking for code/documentation mismatches ... OK
* checking Rd \usage sections ... OK
* checking Rd contents ... OK
* checking for unstated dependencies in examples ... OK
* checking examples ... NONE
* checking PDF version of manual ... OK
NOTE: There was 1 note.
See
  '/Users/biocbuild/bbs-2.11-data-experiment/meat/gatingMLData.Rcheck/00check.log'
for details.