| Back to the "Multiple platform build/check report" | 
| Package 58/133 | Hostname | OS / Arch | BUILD | CHECK | BUILD BIN | ||||
| hapmap100khind 1.4.1 Benilton Carvalho 
  | lamb1 | Linux (openSUSE 12.1) / x86_64 | OK | OK | |||||
| moscato1 | Windows Server 2008 R2 Enterprise SP1 (64-bit) / x64 | OK | OK | OK | |||||
| perceval | Mac OS X Leopard (10.5.8) / i386 | [ OK ] | OK | OK | 
| Package: hapmap100khind | 
| Version: 1.4.1 | 
| Command: /Library/Frameworks/R.framework/Versions/2.15/Resources/bin/R CMD build --keep-empty-dirs --no-resave-data hapmap100khind | 
| StartedAt: 2013-03-24 11:02:06 -0700 (Sun, 24 Mar 2013) | 
| EndedAt: 2013-03-24 11:02:31 -0700 (Sun, 24 Mar 2013) | 
| EllapsedTime: 24.8 seconds | 
| RetCode: 0 | 
| Status: OK | 
| PackageFile: hapmap100khind_1.4.1.tar.gz | 
| PackageFileSize: 38.75 MiB | 
* checking for file 'hapmap100khind/DESCRIPTION' ... OK * preparing 'hapmap100khind': * checking DESCRIPTION meta-information ... OK * checking for LF line-endings in source and make files * checking for empty or unneeded directories * building 'hapmap100khind_1.4.1.tar.gz'