| Back to the "Multiple platform build/check report" | 
This page was generated on 2014-04-04 17:28:53 -0700 (Fri, 04 Apr 2014).
| Package 108/181 | Hostname | OS / Arch | BUILD | CHECK | BUILD BIN | ||||
| LungCancerLines 0.0.10 Cory Barr 
  | zin1 | Linux (Ubuntu 12.04.4 LTS) / x86_64 | [ OK ] | OK | |||||
| moscato1 | Windows Server 2008 R2 Enterprise SP1 (64-bit) / x64 | OK | OK | OK | |||||
| perceval | Mac OS X Snow Leopard (10.6.8) / x86_64 | OK | OK | OK | 
| Package: LungCancerLines | 
| Version: 0.0.10 | 
| Command: /home/biocbuild/bbs-2.13-bioc/R/bin/R CMD build --keep-empty-dirs --no-resave-data LungCancerLines | 
| StartedAt: 2014-04-04 08:27:41 -0700 (Fri, 04 Apr 2014) | 
| EndedAt: 2014-04-04 08:27:43 -0700 (Fri, 04 Apr 2014) | 
| EllapsedTime: 2.2 seconds | 
| RetCode: 0 | 
| Status: OK | 
| PackageFile: LungCancerLines_0.0.10.tar.gz | 
| PackageFileSize: 1.761 MiB | 
* checking for file ‘LungCancerLines/DESCRIPTION’ ... OK * preparing ‘LungCancerLines’: * checking DESCRIPTION meta-information ... OK * checking for LF line-endings in source and make files * checking for empty or unneeded directories * building ‘LungCancerLines_0.0.10.tar.gz’