pasilla 0.2.19 Alejandro Reyes
 | Snapshot Date: 2014-04-04 06:15:32 -0700 (Fri, 04 Apr 2014) |  | URL: https://hedgehog.fhcrc.org/bioc-data/branches/RELEASE_2_13/experiment/pkgs/pasilla |  | Last Changed Rev: 2612 / Revision: 2768 |  | Last Changed Date: 2013-11-22 02:09:24 -0800 (Fri, 22 Nov 2013) |  
  | zin1  | Linux (Ubuntu 12.04.4 LTS) / x86_64  |  OK  |  WARNINGS  |  | 
| moscato1  | Windows Server 2008 R2 Enterprise SP1 (64-bit) / x64  |  OK  |  WARNINGS  |  OK  | 
| perceval  | Mac OS X Snow Leopard (10.6.8) / x86_64  |  OK  |  WARNINGS  | [ OK ] | 
>>>>>>> 
>>>>>>> INSTALLATION WITH 'R CMD INSTALL --preclean --no-multiarch --library=pasilla.buildbin-libdir pasilla_0.2.19.tar.gz'
>>>>>>> 
* installing *source* package ‘pasilla’ ...
** data
** inst
** help
*** installing help indices
** building package indices
** installing vignettes
** testing if installed package can be loaded
* DONE (pasilla)