AmpAffyExample 1.2.2 Rafael A. Irizarry
 | Snapshot Date: 2009-04-10 00:03:00 -0700 (Fri, 10 Apr 2009) |  | URL: https://hedgehog.fhcrc.org/bioc-data/trunk/experiment/pkgs/AmpAffyExample |  | Last Changed Rev: 298 / Revision: 760 |  | Last Changed Date: 2007-05-13 22:20:57 -0700 (Sun, 13 May 2007) |  
  | wilson2  | Linux (openSUSE 10.3) / x86_64  |  OK  |  OK  |  | 
| liverpool  | Windows Server 2003 R2 (32-bit) / x64  |  OK  |  OK  | [ OK ] | 
| pelham  | Mac OS X Leopard (10.5.6) / i386  |  OK  |  OK  |  OK  | 
installing R.css in E:/biocbld/bbs-2.3-data-experiment/meat/AmpAffyExample.buildbin-libdir
Using auto-selected zip options 'AmpAffyExample-ZIPDATA=zip'
---------- Making package AmpAffyExample ------------
  adding build stamp to DESCRIPTION
  installing R files
  installing data files
  preparing package AmpAffyExample for lazy loading
Loading required package: affy
Loading required package: Biobase
Loading required package: tools
Welcome to Bioconductor
  Vignettes contain introductory material. To view, type
  'openVignette()'. To cite Bioconductor, see
  'citation("Biobase")' and for packages 'citation(pkgname)'.
  installing man source files
  installing indices
  zipping data
  installing help
 >>> Building/Updating help pages for package 'AmpAffyExample'
     Formats: text html latex example chm 
  AmpData                           text    html    latex           chm
Microsoft HTML Help Compiler 4.74.8702
Compiling e:\biocbld\bbs-2.3-data-experiment\meat\R.INSTALL.4168\AmpAffyExample\chm\AmpAffyExample.chm
Compile time: 0 minutes, 0 seconds
2	Topics
2	Local links
0	Internet links
1	Graphic
Created e:\biocbld\bbs-2.3-data-experiment\meat\R.INSTALL.4168\AmpAffyExample\chm\AmpAffyExample.chm, 15,767 bytes
Compression increased file by 8,781 bytes.
  adding MD5 sums
packaged installation of package 'AmpAffyExample' as AmpAffyExample_1.2.2.zip
* DONE (AmpAffyExample)