CCl4 1.0.7 Audrey Kauffmann
 | Snapshot Date: 2009-04-10 00:03:00 -0700 (Fri, 10 Apr 2009) |  | URL: https://hedgehog.fhcrc.org/bioc-data/trunk/experiment/pkgs/CCl4 |  | Last Changed Rev: 545 / Revision: 760 |  | Last Changed Date: 2008-01-25 02:00:42 -0800 (Fri, 25 Jan 2008) |  
  | wilson2  | Linux (openSUSE 10.3) / x86_64  |  OK  |  OK  |  | 
| liverpool  | Windows Server 2003 R2 (32-bit) / x64  |  OK  |  OK  |  OK  | 
| pelham  | Mac OS X Leopard (10.5.6) / i386  | [ OK ] |  OK  |  OK  | 
* checking for file 'CCl4/DESCRIPTION' ... OK
* preparing 'CCl4':
* checking DESCRIPTION meta-information ... OK
* installing the package to re-build vignettes
* Installing *source* package 'CCl4' ...
** data
** inst
** help
 >>> Building/Updating help pages for package 'CCl4'
     Formats: text html latex example 
  CCl4                              text    html    latex   example
** building package indices ...
* DONE (CCl4)
* creating vignettes ... OK
* removing junk files
* checking for LF line-endings in source and make files
* checking for empty or unneeded directories
* building 'CCl4_1.0.7.tar.gz'