CLL 1.2.4 Robert Gentleman
 | Snapshot Date: 2009-04-10 00:03:00 -0700 (Fri, 10 Apr 2009) |  | URL: https://hedgehog.fhcrc.org/bioc-data/trunk/experiment/pkgs/CLL |  | Last Changed Rev: 483 / Revision: 760 |  | Last Changed Date: 2007-10-05 13:29:00 -0700 (Fri, 05 Oct 2007) |  
  | wilson2  | Linux (openSUSE 10.3) / x86_64  |  OK  |  OK  |  | 
| liverpool  | Windows Server 2003 R2 (32-bit) / x64  |  OK  |  OK  |  OK  | 
| pelham  | Mac OS X Leopard (10.5.6) / i386  |  OK  |  OK  | [ OK ] | 
                INSTALLATION WITH 'R CMD INSTALL --library=CLL.buildbin-libdir CLL_1.2.4.tar.gz'
* Installing *source* package 'CLL' ...
** R
** data
** preparing package for lazy loading
Loading required package: affy
Loading required package: Biobase
Loading required package: tools
Welcome to Bioconductor
  Vignettes contain introductory material. To view, type
  'openVignette()'. To cite Bioconductor, see
  'citation("Biobase")' and for packages 'citation(pkgname)'.
** help
 >>> Building/Updating help pages for package 'CLL'
     Formats: text html latex example 
  CLL-package                       text    html    latex   example
  CLLbatch                          text    html    latex   example
  disease                           text    html    latex   example
  nsFilter                          text    html    latex   example
  sCLLex                            text    html    latex   example
  sFiltert                          text    html    latex   example
  sFiltertBH                        text    html    latex   example
** building package indices ...
* DONE (CLL)