GGdata 0.99.3 VJ Carey
 | Snapshot Date: 2009-04-10 00:03:00 -0700 (Fri, 10 Apr 2009) |  | URL: https://hedgehog.fhcrc.org/bioc-data/trunk/experiment/pkgs/GGdata |  | Last Changed Rev: 745 / Revision: 760 |  | Last Changed Date: 2008-12-14 21:34:35 -0800 (Sun, 14 Dec 2008) |  
  | wilson2  | Linux (openSUSE 10.3) / x86_64  | [ OK ] |  ERROR  |  | 
| liverpool  | Windows Server 2003 R2 (32-bit) / x64  |  OK  |  ERROR  |  OK  | 
| pelham  | Mac OS X Leopard (10.5.6) / i386  |  OK  |  ERROR  |  OK  | 
* checking for file 'GGdata/DESCRIPTION' ... OK
* preparing 'GGdata':
* checking DESCRIPTION meta-information ... OK
* removing junk files
* checking for LF line-endings in source and make files
* checking for empty or unneeded directories
WARNING: directory 'GGdata/inst/extdata' is empty
* building 'GGdata_0.99.3.tar.gz'