TargetSearchData 0.99.7 Alvaro Cuadros-Inostroza
 | Snapshot Date: 2009-04-10 00:03:00 -0700 (Fri, 10 Apr 2009) |  | URL: https://hedgehog.fhcrc.org/bioc-data/trunk/experiment/pkgs/TargetSearchData |  | Last Changed Rev: 756 / Revision: 760 |  | Last Changed Date: 2009-04-02 17:07:17 -0700 (Thu, 02 Apr 2009) |  
  | wilson2  | Linux (openSUSE 10.3) / x86_64  | [ OK ] |  ERROR  |  | 
| liverpool  | Windows Server 2003 R2 (32-bit) / x64  |  OK  |  ERROR  |  ERROR  | 
| pelham  | Mac OS X Leopard (10.5.6) / i386  |  OK  |  ERROR  |  ERROR  | 
* checking for file 'TargetSearchData/DESCRIPTION' ... OK
* preparing 'TargetSearchData':
* checking DESCRIPTION meta-information ... OK
* removing junk files
* checking for LF line-endings in source and make files
* checking for empty or unneeded directories
* building 'TargetSearchData_0.99.7.tar.gz'