hapmap100kxba 1.3 Benilton Carvalho
 | Snapshot Date: 2009-04-10 00:03:00 -0700 (Fri, 10 Apr 2009) |  | URL: https://hedgehog.fhcrc.org/bioc-data/trunk/experiment/pkgs/hapmap100kxba |  | Last Changed Rev: 466 / Revision: 760 |  | Last Changed Date: 2007-09-17 07:20:21 -0700 (Mon, 17 Sep 2007) |  
  | wilson2  | Linux (openSUSE 10.3) / x86_64  |  OK  |  OK  |  | 
| liverpool  | Windows Server 2003 R2 (32-bit) / x64  |  OK  |  OK  |  OK  | 
| pelham  | Mac OS X Leopard (10.5.6) / i386  |  OK  |  OK  | [ OK ] | 
                INSTALLATION WITH 'R CMD INSTALL --library=hapmap100kxba.buildbin-libdir hapmap100kxba_1.3.tar.gz'
* Installing *source* package 'hapmap100kxba' ...
** R
** inst
** preparing package for lazy loading
** help
 >>> Building/Updating help pages for package 'hapmap100kxba'
     Formats: text html latex example 
  hapmap100kxba-package             text    html    latex   example
** building package indices ...
* DONE (hapmap100kxba)