hapmap500knsp 1.3 Benilton Carvalho
 | Snapshot Date: 2009-04-10 00:03:00 -0700 (Fri, 10 Apr 2009) |  | URL: https://hedgehog.fhcrc.org/bioc-data/trunk/experiment/pkgs/hapmap500knsp |  | Last Changed Rev: 466 / Revision: 760 |  | Last Changed Date: 2007-09-17 07:20:21 -0700 (Mon, 17 Sep 2007) |  
  | wilson2  | Linux (openSUSE 10.3) / x86_64  |  OK  |  OK  |  | 
| liverpool  | Windows Server 2003 R2 (32-bit) / x64  |  OK  |  OK  | [ OK ] | 
| pelham  | Mac OS X Leopard (10.5.6) / i386  |  OK  |  OK  |  OK  | 
installing R.css in E:/biocbld/bbs-2.3-data-experiment/meat/hapmap500knsp.buildbin-libdir
Using auto-selected zip options ''
---------- Making package hapmap500knsp ------------
  adding build stamp to DESCRIPTION
  installing R files
  installing inst files
  preparing package hapmap500knsp for lazy loading
  installing man source files
  installing indices
  installing help
 >>> Building/Updating help pages for package 'hapmap500knsp'
     Formats: text html latex example chm 
  hapmap500knsp-package             text    html    latex   example chm
Microsoft HTML Help Compiler 4.74.8702
Compiling e:\biocbld\bbs-2.3-data-experiment\meat\R.INSTALL.8128\hapmap500knsp\chm\hapmap500knsp.chm
Compile time: 0 minutes, 5 seconds
2	Topics
3	Local links
0	Internet links
1	Graphic
Created e:\biocbld\bbs-2.3-data-experiment\meat\R.INSTALL.8128\hapmap500knsp\chm\hapmap500knsp.chm, 16,354 bytes
Compression increased file by 8,538 bytes.
  adding MD5 sums
packaged installation of package 'hapmap500knsp' as hapmap500knsp_1.3.zip
* DONE (hapmap500knsp)