hapmapsnp5 1.3 Benilton Carvalho
 | Snapshot Date: 2009-04-10 00:03:00 -0700 (Fri, 10 Apr 2009) |  | URL: https://hedgehog.fhcrc.org/bioc-data/trunk/experiment/pkgs/hapmapsnp5 |  | Last Changed Rev: 543 / Revision: 760 |  | Last Changed Date: 2008-01-18 10:46:58 -0800 (Fri, 18 Jan 2008) |  
  | wilson2  | Linux (openSUSE 10.3) / x86_64  |  OK  |  OK  |  | 
| liverpool  | Windows Server 2003 R2 (32-bit) / x64  |  OK  |  OK  | [ OK ] | 
| pelham  | Mac OS X Leopard (10.5.6) / i386  |  OK  |  OK  |  OK  | 
installing R.css in E:/biocbld/bbs-2.3-data-experiment/meat/hapmapsnp5.buildbin-libdir
Using auto-selected zip options ''
---------- Making package hapmapsnp5 ------------
  adding build stamp to DESCRIPTION
  installing R files
  installing inst files
  preparing package hapmapsnp5 for lazy loading
  installing man source files
  installing indices
  installing help
 >>> Building/Updating help pages for package 'hapmapsnp5'
     Formats: text html latex example chm 
  hapmapsnp5-package                text    html    latex   example chm
Microsoft HTML Help Compiler 4.74.8702
Compiling e:\biocbld\bbs-2.3-data-experiment\meat\R.INSTALL.6536\hapmapsnp5\chm\hapmapsnp5.chm
Compile time: 0 minutes, 1 second
2	Topics
3	Local links
0	Internet links
1	Graphic
Created e:\biocbld\bbs-2.3-data-experiment\meat\R.INSTALL.6536\hapmapsnp5\chm\hapmapsnp5.chm, 16,333 bytes
Compression increased file by 8,589 bytes.
  adding MD5 sums
packaged installation of package 'hapmapsnp5' as hapmapsnp5_1.3.zip
* DONE (hapmapsnp5)