harbChIP 0.0.8 VJ Carey
 | Snapshot Date: 2009-04-10 00:03:00 -0700 (Fri, 10 Apr 2009) |  | URL: https://hedgehog.fhcrc.org/bioc-data/trunk/experiment/pkgs/harbChIP |  | Last Changed Rev: 734 / Revision: 760 |  | Last Changed Date: 2008-10-27 11:05:21 -0700 (Mon, 27 Oct 2008) |  
  | wilson2  | Linux (openSUSE 10.3) / x86_64  |  OK  |  OK  |  | 
| liverpool  | Windows Server 2003 R2 (32-bit) / x64  |  OK  |  OK  |  OK  | 
| pelham  | Mac OS X Leopard (10.5.6) / i386  | [ OK ] |  OK  |  OK  | 
* checking for file 'harbChIP/DESCRIPTION' ... OK
* preparing 'harbChIP':
* checking DESCRIPTION meta-information ... OK
* installing the package to re-build vignettes
* Installing *source* package 'harbChIP' ...
** R
** data
** inst
** preparing package for lazy loading
Loading required package: tools
Loading required package: Biobase
Welcome to Bioconductor
  Vignettes contain introductory material. To view, type
  'openVignette()'. To cite Bioconductor, see
  'citation("Biobase")' and for packages 'citation(pkgname)'.
Loading required package: Biostrings
Loading required package: IRanges
Attaching package: 'IRanges'
	The following object(s) are masked from package:Biobase :
	 annotation 
	The following object(s) are masked from package:base :
	 cbind,
	 rbind,
	 sapply 
Attaching package: 'Biostrings'
	The following object(s) are masked from package:base :
	 chartr,
	 order,
	 substr,
	 substring 
** help
 >>> Building/Updating help pages for package 'harbChIP'
     Formats: text html latex example 
  allhex                            text    html    latex   example
  buildUpstreamSeqs2                text    html    latex   example
  chkMotif4TF                       text    html    latex   example
  harbChIP                          text    html    latex   example
Note: removing empty section \references in file 'sceUpstream.Rd'
  sceUpstream                       text    html    latex   example
  upstreamSeqs-class                text    html    latex   example
** building package indices ...
Loading required package: methods
Loading required package: utils
* DONE (harbChIP)
* creating vignettes ... OK
* removing junk files
* checking for LF line-endings in source and make files
* checking for empty or unneeded directories
* building 'harbChIP_0.0.8.tar.gz'