GraphAT 1.18.0 Thomas LaFramboise
 | Snapshot Date: 2010-04-02 23:28:25 -0700 (Fri, 02 Apr 2010) |  | URL: https://hedgehog.fhcrc.org/bioconductor/branches/RELEASE_2_5/madman/Rpacks/GraphAT |  | Last Changed Rev: 42684 / Revision: 45705 |  | Last Changed Date: 2009-10-27 16:33:29 -0700 (Tue, 27 Oct 2009) |  
  | wilson2  | Linux (openSUSE 11.1) / x86_64  |  OK  |  OK  |  | 
| liverpool  | Windows Server 2003 R2 (32-bit) / x64  |  OK  |  OK  |  OK  | 
| pitt  | Mac OS X Tiger (10.4.11) / i386  |  OK  |  OK  | [ OK ] | 
| pelham  | Mac OS X Leopard (10.5.8) / i386  |  OK  |  OK  |  OK  | 
                INSTALLATION WITH 'R CMD INSTALL --preclean --library=GraphAT.buildbin-libdir GraphAT_1.18.0.tar.gz'
* installing *source* package ‘GraphAT’ ...
** R
** data
** preparing package for lazy loading
Loading required package: coda
Loading required package: lattice
Loading required package: MASS
##
## Markov Chain Monte Carlo Package (MCMCpack)
## Copyright (C) 2003-2010 Andrew D. Martin, Kevin M. Quinn, and Jong Hee Park
##
## Support provided by the U.S. National Science Foundation
## (Grants SES-0350646 and SES-0350613)
##
** help
*** installing help indices
** building package indices ...
* DONE (GraphAT)