SJava 0.72.0 Martin Morgan
 | Snapshot Date: 2010-04-02 23:28:25 -0700 (Fri, 02 Apr 2010) |  | URL: https://hedgehog.fhcrc.org/bioconductor/branches/RELEASE_2_5/madman/Rpacks/SJava |  | Last Changed Rev: 45584 / Revision: 45705 |  | Last Changed Date: 2010-03-29 19:55:21 -0700 (Mon, 29 Mar 2010) |  
  | wilson2  | Linux (openSUSE 11.1) / x86_64  | [ OK ] |  WARNINGS  |  | 
| liverpool  | Windows Server 2003 R2 (32-bit) / x64  | N O T   S U P P O R T E D | 
| pitt  | Mac OS X Tiger (10.4.11) / i386  | N O T   S U P P O R T E D | 
| pelham  | Mac OS X Leopard (10.5.8) / i386  | N O T   S U P P O R T E D |