arrayQualityMetrics 2.4.3 Audrey Kauffmann
 | Snapshot Date: 2010-04-02 23:28:25 -0700 (Fri, 02 Apr 2010) |  | URL: https://hedgehog.fhcrc.org/bioconductor/branches/RELEASE_2_5/madman/Rpacks/arrayQualityMetrics |  | Last Changed Rev: 43267 / Revision: 45705 |  | Last Changed Date: 2009-11-26 03:10:10 -0800 (Thu, 26 Nov 2009) |  
  | wilson2  | Linux (openSUSE 11.1) / x86_64  |  OK  | [ OK ] |  | 
| liverpool  | Windows Server 2003 R2 (32-bit) / x64  |  OK  |  OK  |  OK  | 
| pitt  | Mac OS X Tiger (10.4.11) / i386  |  OK  |  OK  |  OK  | 
| pelham  | Mac OS X Leopard (10.5.8) / i386  |  OK  |  OK  |  OK  | 
* checking for working pdflatex ... OK
* using log directory '/loc/home/biocbuild/bbs-2.5-bioc/meat/arrayQualityMetrics.Rcheck'
* using R version 2.10.1 (2009-12-14)
* using session charset: UTF-8
* using option '--no-vignettes'
* checking for file 'arrayQualityMetrics/DESCRIPTION' ... OK
* this is package 'arrayQualityMetrics' version '2.4.3'
* checking package name space information ... OK
* checking package dependencies ... OK
* checking if this is a source package ... OK
* checking whether package 'arrayQualityMetrics' can be installed ... OK
* checking package directory ... OK
* checking for portable file names ... OK
* checking for sufficient/correct file permissions ... OK
* checking DESCRIPTION meta-information ... OK
* checking top-level files ... OK
* checking index information ... OK
* checking package subdirectories ... OK
* checking R files for non-ASCII characters ... OK
* checking R files for syntax errors ... OK
* checking whether the package can be loaded ... OK
* checking whether the package can be loaded with stated dependencies ... OK
* checking whether the name space can be loaded with stated dependencies ... OK
* checking for unstated dependencies in R code ... OK
* checking S3 generic/method consistency ... OK
* checking replacement functions ... OK
* checking foreign function calls ... OK
* checking R code for possible problems ... OK
* checking Rd files ... OK
* checking Rd metadata ... OK
* checking Rd cross-references ... OK
* checking for missing documentation entries ... OK
* checking for code/documentation mismatches ... OK
* checking Rd \usage sections ... OK
* checking examples ... OK
* checking package vignettes in 'inst/doc' ... SKIPPED
* checking PDF version of manual ... OK
 
* install options are ' --no-html'
* installing *source* package ‘arrayQualityMetrics’ ...
** R
** inst
** preparing package for lazy loading
Loading required package: affy
Loading required package: Biobase
Welcome to Bioconductor
  Vignettes contain introductory material. To view, type
  'openVignette()'. To cite Bioconductor, see
  'citation("Biobase")' and for packages 'citation(pkgname)'.
Loading required package: gcrma
Loading required package: preprocessCore
Attaching package: 'affyPLM'
	The following object(s) are masked from package:stats :
	 resid,
	 residuals,
	 weights 
** help
*** installing help indices
** building package indices ...
* DONE (arrayQualityMetrics)