biocDatasets 1.2.0 L. Gautier
 | Snapshot Date: 2010-04-02 23:28:25 -0700 (Fri, 02 Apr 2010) |  | URL: https://hedgehog.fhcrc.org/bioconductor/branches/RELEASE_2_5/madman/Rpacks/biocDatasets |  | Last Changed Rev: 42684 / Revision: 45705 |  | Last Changed Date: 2009-10-27 16:33:29 -0700 (Tue, 27 Oct 2009) |  
  | wilson2  | Linux (openSUSE 11.1) / x86_64  |  OK  |  OK  |  | 
| liverpool  | Windows Server 2003 R2 (32-bit) / x64  |  OK  |  OK  |  OK  | 
| pitt  | Mac OS X Tiger (10.4.11) / i386  |  OK  |  OK  | [ OK ] | 
| pelham  | Mac OS X Leopard (10.5.8) / i386  |  OK  |  OK  |  OK  | 
                INSTALLATION WITH 'R CMD INSTALL --preclean --library=biocDatasets.buildbin-libdir biocDatasets_1.2.0.tar.gz'
* installing *source* package ‘biocDatasets’ ...
** R
** inst
** preparing package for lazy loading
Attaching package: 'IRanges'
	The following object(s) are masked from package:base :
	 Map,
	 cbind,
	 mapply,
	 order,
	 pmax,
	 pmax.int,
	 pmin,
	 pmin.int,
	 rbind,
	 rep.int,
	 table 
** help
*** installing help indices
** building package indices ...
* DONE (biocDatasets)