oneChannelGUI 1.12.5 Raffaele A Calogero
 | Snapshot Date: 2010-04-02 23:28:25 -0700 (Fri, 02 Apr 2010) |  | URL: https://hedgehog.fhcrc.org/bioconductor/branches/RELEASE_2_5/madman/Rpacks/oneChannelGUI |  | Last Changed Rev: 44648 / Revision: 45705 |  | Last Changed Date: 2010-02-11 04:27:11 -0800 (Thu, 11 Feb 2010) |  
  | wilson2  | Linux (openSUSE 11.1) / x86_64  | [ OK ] |  OK  |  | 
| liverpool  | Windows Server 2003 R2 (32-bit) / x64  |  OK  |  OK  |  OK  | 
| pitt  | Mac OS X Tiger (10.4.11) / i386  |  OK  |  OK  |  OK  | 
| pelham  | Mac OS X Leopard (10.5.8) / i386  |  OK  |  OK  |  OK  | 
* checking for file 'oneChannelGUI/DESCRIPTION' ... OK
* preparing 'oneChannelGUI':
* checking DESCRIPTION meta-information ... OK
* installing the package to re-build vignettes
* installing *source* package ‘oneChannelGUI’ ...
** R
** data
** inst
** preparing package for lazy loading
Welcome to Bioconductor
  Vignettes contain introductory material. To view, type
  'openVignette()'. To cite Bioconductor, see
  'citation("Biobase")' and for packages 'citation(pkgname)'.
Loading required package: limma
Loading required package: tcltk
Loading Tcl/Tk interface ... done
Loading required package: affy
Loading required package: affyio
Loading required package: widgetTools
Loading required package: DynDoc
Loading required package: tools
Loading required package: Category
Loading required package: AnnotationDbi
Loading required package: graph
Loading required package: DBI
** help
*** installing help indices
** building package indices ...
* DONE (oneChannelGUI)
* creating vignettes ... OK
* removing junk files
* checking for LF line-endings in source and make files
* checking for empty or unneeded directories
* building 'oneChannelGUI_1.12.5.tar.gz'