xcms 1.20.1 Colin A. Smith
 | Snapshot Date: 2010-04-02 23:28:25 -0700 (Fri, 02 Apr 2010) |  | URL: https://hedgehog.fhcrc.org/bioconductor/branches/RELEASE_2_5/madman/Rpacks/xcms |  | Last Changed Rev: 43253 / Revision: 45705 |  | Last Changed Date: 2009-11-25 03:28:51 -0800 (Wed, 25 Nov 2009) |  
  | wilson2  | Linux (openSUSE 11.1) / x86_64  | [ OK ] |  OK  |  | 
| liverpool  | Windows Server 2003 R2 (32-bit) / x64  |  OK  |  OK  |  OK  | 
| pitt  | Mac OS X Tiger (10.4.11) / i386  |  OK  |  OK  |  OK  | 
| pelham  | Mac OS X Leopard (10.5.8) / i386  |  OK  |  OK  |  OK  | 
* checking for file 'xcms/DESCRIPTION' ... OK
* preparing 'xcms':
* checking DESCRIPTION meta-information ... OK
* cleaning src
rm -f obiwarp/mat.o obiwarp/vec.o obiwarp/xcms_dynprog.o obiwarp/xcms_lmat.o obiwarp/xcms_obiwarp.o mzClust_hclust.o mzROI.o netCDF.o ramp_base64.o ramp.o rampR.o util.o xcms.o
* installing the package to re-build vignettes
* installing *source* package ‘xcms’ ...
** libs
g++ -I/home/biocbuild/bbs-2.5-bioc/R/include -I/usr/local/include -I/sw/include -D_LARGEFILE_SOURCE -I/usr/local/include    -fpic  -g -O2 -Wall -c obiwarp/mat.cpp -o obiwarp/mat.o
g++ -I/home/biocbuild/bbs-2.5-bioc/R/include -I/usr/local/include -I/sw/include -D_LARGEFILE_SOURCE -I/usr/local/include    -fpic  -g -O2 -Wall -c obiwarp/vec.cpp -o obiwarp/vec.o
g++ -I/home/biocbuild/bbs-2.5-bioc/R/include -I/usr/local/include -I/sw/include -D_LARGEFILE_SOURCE -I/usr/local/include    -fpic  -g -O2 -Wall -c obiwarp/xcms_dynprog.cpp -o obiwarp/xcms_dynprog.o
g++ -I/home/biocbuild/bbs-2.5-bioc/R/include -I/usr/local/include -I/sw/include -D_LARGEFILE_SOURCE -I/usr/local/include    -fpic  -g -O2 -Wall -c obiwarp/xcms_lmat.cpp -o obiwarp/xcms_lmat.o
g++ -I/home/biocbuild/bbs-2.5-bioc/R/include -I/usr/local/include -I/sw/include -D_LARGEFILE_SOURCE -I/usr/local/include    -fpic  -g -O2 -Wall -c obiwarp/xcms_obiwarp.cpp -o obiwarp/xcms_obiwarp.o
gcc -std=gnu99 -I/home/biocbuild/bbs-2.5-bioc/R/include -I/usr/local/include -I/sw/include -D_LARGEFILE_SOURCE -I/usr/local/include    -fpic  -g -O2 -Wall -c mzClust_hclust.c -o mzClust_hclust.o
gcc -std=gnu99 -I/home/biocbuild/bbs-2.5-bioc/R/include -I/usr/local/include -I/sw/include -D_LARGEFILE_SOURCE -I/usr/local/include    -fpic  -g -O2 -Wall -c mzROI.c -o mzROI.o
gcc -std=gnu99 -I/home/biocbuild/bbs-2.5-bioc/R/include -I/usr/local/include -I/sw/include -D_LARGEFILE_SOURCE -I/usr/local/include    -fpic  -g -O2 -Wall -c netCDF.c -o netCDF.o
g++ -I/home/biocbuild/bbs-2.5-bioc/R/include -I/usr/local/include -I/sw/include -D_LARGEFILE_SOURCE -I/usr/local/include    -fpic  -g -O2 -Wall -c ramp_base64.cpp -o ramp_base64.o
g++ -I/home/biocbuild/bbs-2.5-bioc/R/include -I/usr/local/include -I/sw/include -D_LARGEFILE_SOURCE -I/usr/local/include    -fpic  -g -O2 -Wall -c ramp.cpp -o ramp.o
g++ -I/home/biocbuild/bbs-2.5-bioc/R/include -I/usr/local/include -I/sw/include -D_LARGEFILE_SOURCE -I/usr/local/include    -fpic  -g -O2 -Wall -c rampR.cpp -o rampR.o
gcc -std=gnu99 -I/home/biocbuild/bbs-2.5-bioc/R/include -I/usr/local/include -I/sw/include -D_LARGEFILE_SOURCE -I/usr/local/include    -fpic  -g -O2 -Wall -c util.c -o util.o
gcc -std=gnu99 -I/home/biocbuild/bbs-2.5-bioc/R/include -I/usr/local/include -I/sw/include -D_LARGEFILE_SOURCE -I/usr/local/include    -fpic  -g -O2 -Wall -c xcms.c -o xcms.o
g++ -shared -L/usr/local/lib64 -o xcms.so obiwarp/mat.o obiwarp/vec.o obiwarp/xcms_dynprog.o obiwarp/xcms_lmat.o obiwarp/xcms_obiwarp.o mzClust_hclust.o mzROI.o netCDF.o ramp_base64.o ramp.o rampR.o util.o xcms.o -L/usr/local/lib -L/sw/lib -lnetcdf -lz -L/home/biocbuild/bbs-2.5-bioc/R/lib -lR
** R
** inst
** preparing package for lazy loading
** help
*** installing help indices
** building package indices ...
* DONE (xcms)
* creating vignettes ... OK
* cleaning src
rm -f obiwarp/mat.o obiwarp/vec.o obiwarp/xcms_dynprog.o obiwarp/xcms_lmat.o obiwarp/xcms_obiwarp.o mzClust_hclust.o mzROI.o netCDF.o ramp_base64.o ramp.o rampR.o util.o xcms.o
* removing junk files
* checking for LF line-endings in source and make files
* checking for empty or unneeded directories
* building 'xcms_1.20.1.tar.gz'