davidTiling 1.2.12 Wolfgang Huber
 | Snapshot Date: 2010-04-02 12:27:31 -0700 (Fri, 02 Apr 2010) |  | URL: https://hedgehog.fhcrc.org/bioc-data/trunk/experiment/pkgs/davidTiling |  | Last Changed Rev: 1042 / Revision: 1201 |  | Last Changed Date: 2009-10-13 18:35:32 -0700 (Tue, 13 Oct 2009) |  
  | wilson2  | Linux (openSUSE 11.1) / x86_64  |  OK  |  OK  |  | 
| pitt  | Mac OS X Tiger (10.4.11) / i386  |  OK  |  TIMEOUT  |  OK  | 
| pelham  | Mac OS X Leopard (10.5.8) / i386  |  OK  |  OK  | [ OK ] | 
                INSTALLATION WITH 'R CMD INSTALL --preclean --library=davidTiling.buildbin-libdir davidTiling_1.2.12.tar.gz'
* installing *source* package ‘davidTiling’ ...
** R
** data
** inst
** preparing package for lazy loading
Welcome to Bioconductor
  Vignettes contain introductory material. To view, type
  'openVignette()'. To cite Bioconductor, see
  'citation("Biobase")' and for packages 'citation(pkgname)'.
Loading required package: pixmap
Loading required package: AnnotationDbi
Loading required package: DBI
** help
*** installing help indices
** building package indices ...
* DONE (davidTiling)