| Back to the "Multiple platform build/check report" |
| Package 23/77 | Hostname | OS / Arch | BUILD | CHECK | BUILD BIN | ||||
| gatingMLData 1.0.2 Nishant Gopalakrishnan
| wilson2 | Linux (openSUSE 11.1) / x86_64 | [ OK ] | OK | |||||
| pitt | Mac OS X Tiger (10.4.11) / i386 | OK | OK | OK | |||||
| pelham | Mac OS X Leopard (10.5.8) / i386 | OK | OK | OK |
| Package: gatingMLData |
| Version: 1.0.2 |
| Command: /home/biocbuild/bbs-2.5-bioc/R/bin/R CMD build gatingMLData |
| StartedAt: 2010-04-02 13:23:33 -0700 (Fri, 02 Apr 2010) |
| EndedAt: 2010-04-02 13:23:39 -0700 (Fri, 02 Apr 2010) |
| EllapsedTime: 5.5 seconds |
| RetCode: 0 |
| Status: OK |
| PackageFile: gatingMLData_1.0.2.tar.gz |
| PackageFileSize: 1.791 MiB |
* checking for file 'gatingMLData/DESCRIPTION' ... OK * preparing 'gatingMLData': * checking DESCRIPTION meta-information ... OK * removing junk files * checking for LF line-endings in source and make files * checking for empty or unneeded directories * building 'gatingMLData_1.0.2.tar.gz'