| Back to the "Multiple platform build/check report" |
| Package 29/77 | Hostname | OS / Arch | BUILD | CHECK | BUILD BIN | ||||
| hapmap100khind 1.3.32 Benilton Carvalho
| wilson2 | Linux (openSUSE 11.1) / x86_64 | [ OK ] | OK | |||||
| pitt | Mac OS X Tiger (10.4.11) / i386 | OK | OK | OK | |||||
| pelham | Mac OS X Leopard (10.5.8) / i386 | OK | OK | OK |
| Package: hapmap100khind |
| Version: 1.3.32 |
| Command: /home/biocbuild/bbs-2.5-bioc/R/bin/R CMD build hapmap100khind |
| StartedAt: 2010-04-02 13:27:27 -0700 (Fri, 02 Apr 2010) |
| EndedAt: 2010-04-02 13:28:33 -0700 (Fri, 02 Apr 2010) |
| EllapsedTime: 65.6 seconds |
| RetCode: 0 |
| Status: OK |
| PackageFile: hapmap100khind_1.3.32.tar.gz |
| PackageFileSize: 38.04 MiB |
* checking for file 'hapmap100khind/DESCRIPTION' ... OK * preparing 'hapmap100khind': * checking DESCRIPTION meta-information ... OK * removing junk files * checking for LF line-endings in source and make files * checking for empty or unneeded directories * building 'hapmap100khind_1.3.32.tar.gz'