| Back to the "Multiple platform build/check report" |
| Package 31/77 | Hostname | OS / Arch | BUILD | CHECK | BUILD BIN | ||||
| hapmap500knsp 1.3.3 Benilton Carvalho
| wilson2 | Linux (openSUSE 11.1) / x86_64 | OK | OK | |||||
| pitt | Mac OS X Tiger (10.4.11) / i386 | [ OK ] | OK | OK | |||||
| pelham | Mac OS X Leopard (10.5.8) / i386 | OK | OK | OK |
| Package: hapmap500knsp |
| Version: 1.3.3 |
| Command: /Library/Frameworks/R.framework/Versions/2.10/Resources/bin/R CMD build hapmap500knsp |
| StartedAt: 2010-04-02 13:38:30 -0700 (Fri, 02 Apr 2010) |
| EndedAt: 2010-04-02 13:51:16 -0700 (Fri, 02 Apr 2010) |
| EllapsedTime: 765.5 seconds |
| RetCode: 0 |
| Status: OK |
| PackageFile: hapmap500knsp_1.3.3.tar.gz |
| PackageFileSize: 80.39 MiB |
* checking for file 'hapmap500knsp/DESCRIPTION' ... OK * preparing 'hapmap500knsp': * checking DESCRIPTION meta-information ... OK * removing junk files * checking for LF line-endings in source and make files * checking for empty or unneeded directories * building 'hapmap500knsp_1.3.3.tar.gz'