leeBamViews 0.99.3 VJ Carey
 | Snapshot Date: 2010-04-02 12:27:31 -0700 (Fri, 02 Apr 2010) |  | URL: https://hedgehog.fhcrc.org/bioc-data/trunk/experiment/pkgs/leeBamViews |  | Last Changed Rev: 1201 / Revision: 1201 |  | Last Changed Date: 2010-04-02 07:59:26 -0700 (Fri, 02 Apr 2010) |  
  | wilson2  | Linux (openSUSE 11.1) / x86_64  | [ ERROR ] |  skipped  |  | 
| pitt  | Mac OS X Tiger (10.4.11) / i386  |  ERROR  |  skipped  |  skipped  | 
| pelham  | Mac OS X Leopard (10.5.8) / i386  |  ERROR  |  skipped  |  skipped  | 
* checking for file 'leeBamViews/DESCRIPTION' ... OK
* preparing 'leeBamViews':
* checking DESCRIPTION meta-information ... OK
* installing the package to re-build vignettes
* installing *source* package ‘leeBamViews’ ...
** R
** data
** inst
** preparing package for lazy loading
Welcome to Bioconductor
  Vignettes contain introductory material. To view, type
  'openVignette()'. To cite Bioconductor, see
  'citation("Biobase")' and for packages 'citation(pkgname)'.
Error : package 'Rsamtools' required by 'leeBamViews' could not be found
ERROR: lazy loading failed for package ‘leeBamViews’
* removing ‘/tmp/Rinst565030366/leeBamViews’
 ERROR
Installation failed.
Removing '/tmp/Rinst565030366'