ppiData 0.1.14 Tony Chiang
 | Snapshot Date: 2010-04-02 12:27:31 -0700 (Fri, 02 Apr 2010) |  | URL: https://hedgehog.fhcrc.org/bioc-data/trunk/experiment/pkgs/ppiData |  | Last Changed Rev: 1101 / Revision: 1201 |  | Last Changed Date: 2009-12-05 17:17:35 -0800 (Sat, 05 Dec 2009) |  
  | wilson2  | Linux (openSUSE 11.1) / x86_64  | [ OK ] |  OK  |  | 
| pitt  | Mac OS X Tiger (10.4.11) / i386  |  OK  |  OK  |  OK  | 
| pelham  | Mac OS X Leopard (10.5.8) / i386  |  OK  |  OK  |  OK  | 
* checking for file 'ppiData/DESCRIPTION' ... OK
* preparing 'ppiData':
* checking DESCRIPTION meta-information ... OK
* installing the package to re-build vignettes
* installing *source* package ‘ppiData’ ...
** R
** data
**  moving datasets to lazyload DB
** inst
** preparing package for lazy loading
** help
*** installing help indices
** building package indices ...
* DONE (ppiData)
* creating vignettes ... OK
* removing junk files
* checking for LF line-endings in source and make files
* checking for empty or unneeded directories
* building 'ppiData_0.1.14.tar.gz'