| Back to the "Multiple platform build/check report" |
| Package 71/77 | Hostname | OS / Arch | BUILD | CHECK | BUILD BIN | ||||
| tinesath1cdf 1.0.3 Tine Casneuf
| wilson2 | Linux (openSUSE 11.1) / x86_64 | OK | OK | |||||
| pitt | Mac OS X Tiger (10.4.11) / i386 | OK | OK | OK | |||||
| pelham | Mac OS X Leopard (10.5.8) / i386 | OK | OK | [ OK ] |
| Package: tinesath1cdf |
| Version: 1.0.3 |
| Command: /Users/biocbuild/BBS/utils/build-universal.sh tinesath1cdf_1.0.3.tar.gz /Library/Frameworks/R.framework/Versions/2.10/Resources/bin/R tinesath1cdf.buildbin-libdir |
| StartedAt: 2010-04-02 15:37:10 -0700 (Fri, 02 Apr 2010) |
| EndedAt: 2010-04-02 15:37:14 -0700 (Fri, 02 Apr 2010) |
| EllapsedTime: 3.8 seconds |
| RetCode: 0 |
| Status: OK |
| PackageFile: tinesath1cdf_1.0.3.tgz |
| PackageFileSize: 1.483 MiB |
INSTALLATION WITH 'R CMD INSTALL --preclean --library=tinesath1cdf.buildbin-libdir tinesath1cdf_1.0.3.tar.gz'
* installing *source* package ‘tinesath1cdf’ ...
** R
** data
** preparing package for lazy loading
** help
*** installing help indices
** building package indices ...
* DONE (tinesath1cdf)