| Back to the "Multiple platform build/check report" |
| Package 76/77 | Hostname | OS / Arch | BUILD | CHECK | BUILD BIN | ||||
| yeastGSData 0.1.5 R. Gentleman
| wilson2 | Linux (openSUSE 11.1) / x86_64 | OK | OK | |||||
| pitt | Mac OS X Tiger (10.4.11) / i386 | OK | OK | [ OK ] | |||||
| pelham | Mac OS X Leopard (10.5.8) / i386 | OK | OK | OK |
| Package: yeastGSData |
| Version: 0.1.5 |
| Command: /Users/biocbuild/BBS/utils/build-universal.sh yeastGSData_0.1.5.tar.gz /Library/Frameworks/R.framework/Versions/2.10/Resources/bin/R yeastGSData.buildbin-libdir |
| StartedAt: 2010-04-02 15:39:18 -0700 (Fri, 02 Apr 2010) |
| EndedAt: 2010-04-02 15:39:46 -0700 (Fri, 02 Apr 2010) |
| EllapsedTime: 27.9 seconds |
| RetCode: 0 |
| Status: OK |
| PackageFile: yeastGSData_0.1.5.tgz |
| PackageFileSize: 8.03 MiB |
INSTALLATION WITH 'R CMD INSTALL --preclean --library=yeastGSData.buildbin-libdir yeastGSData_0.1.5.tar.gz'
* installing *source* package ‘yeastGSData’ ...
** data
** inst
** help
*** installing help indices
** building package indices ...
* DONE (yeastGSData)