| Back to the "Multiple platform build/check report" |
| Package 4/83 | Hostname | OS / Arch | BUILD | CHECK | BUILD BIN | ||||
| ALLMLL 1.2.8 B. M. Bolstad
| wilson1 | Linux (openSUSE 11.1) / x86_64 | OK | OK | |||||
| liverpool | Windows Server 2003 R2 (32-bit) / x64 | OK | OK | OK | |||||
| pelham | Mac OS X Leopard (10.5.8) / i386 | OK | OK | [ OK ] |
| Package: ALLMLL |
| Version: 1.2.8 |
| Command: /Users/biocbuild/BBS/utils/build-universal.sh ALLMLL_1.2.8.tar.gz /Library/Frameworks/R.framework/Versions/2.11/Resources/bin/R ALLMLL.buildbin-libdir |
| StartedAt: 2010-09-24 04:19:22 -0700 (Fri, 24 Sep 2010) |
| EndedAt: 2010-09-24 04:20:05 -0700 (Fri, 24 Sep 2010) |
| EllapsedTime: 42.6 seconds |
| RetCode: 0 |
| Status: OK |
| PackageFile: ALLMLL_1.2.8.tgz |
| PackageFileSize: 25.62 MiB |
INSTALLATION WITH 'R CMD INSTALL --preclean --library=ALLMLL.buildbin-libdir ALLMLL_1.2.8.tar.gz'
* installing *source* package ‘ALLMLL’ ...
** data
** help
*** installing help indices
** building package indices ...
** testing if installed package can be loaded
* DONE (ALLMLL)