| Back to the "Multiple platform build/check report" |
| Package 52/83 | Hostname | OS / Arch | BUILD | CHECK | BUILD BIN | ||||
| ITALICSData 2.0.1 Guillem Rigaill
| wilson1 | Linux (openSUSE 11.1) / x86_64 | OK | OK | |||||
| liverpool | Windows Server 2003 R2 (32-bit) / x64 | OK | OK | OK | |||||
| pelham | Mac OS X Leopard (10.5.8) / i386 | OK | OK | [ OK ] |
| Package: ITALICSData |
| Version: 2.0.1 |
| Command: /Users/biocbuild/BBS/utils/build-universal.sh ITALICSData_2.0.1.tar.gz /Library/Frameworks/R.framework/Versions/2.11/Resources/bin/R ITALICSData.buildbin-libdir |
| StartedAt: 2010-09-24 04:42:12 -0700 (Fri, 24 Sep 2010) |
| EndedAt: 2010-09-24 04:46:49 -0700 (Fri, 24 Sep 2010) |
| EllapsedTime: 277.3 seconds |
| RetCode: 0 |
| Status: OK |
| PackageFile: ITALICSData_2.0.1.tgz |
| PackageFileSize: 84.74 MiB |
INSTALLATION WITH 'R CMD INSTALL --preclean --library=ITALICSData.buildbin-libdir ITALICSData_2.0.1.tar.gz'
* installing *source* package ‘ITALICSData’ ...
** data
** help
*** installing help indices
** building package indices ...
** testing if installed package can be loaded
* DONE (ITALICSData)