| Back to the "Multiple platform build/check report" |
| Package 62/83 | Hostname | OS / Arch | BUILD | CHECK | BUILD BIN | ||||
| MEEBOdata 1.0.0 Agnes Paquet
| wilson1 | Linux (openSUSE 11.1) / x86_64 | OK | OK | |||||
| liverpool | Windows Server 2003 R2 (32-bit) / x64 | OK | OK | OK | |||||
| pelham | Mac OS X Leopard (10.5.8) / i386 | OK | OK | [ OK ] |
| Package: MEEBOdata |
| Version: 1.0.0 |
| Command: /Users/biocbuild/BBS/utils/build-universal.sh MEEBOdata_1.0.0.tar.gz /Library/Frameworks/R.framework/Versions/2.11/Resources/bin/R MEEBOdata.buildbin-libdir |
| StartedAt: 2010-09-24 04:45:58 -0700 (Fri, 24 Sep 2010) |
| EndedAt: 2010-09-24 04:46:15 -0700 (Fri, 24 Sep 2010) |
| EllapsedTime: 16.8 seconds |
| RetCode: 0 |
| Status: OK |
| PackageFile: MEEBOdata_1.0.0.tgz |
| PackageFileSize: 6.9 MiB |
INSTALLATION WITH 'R CMD INSTALL --preclean --library=MEEBOdata.buildbin-libdir MEEBOdata_1.0.0.tar.gz'
* installing *source* package ‘MEEBOdata’ ...
** data
** inst
** help
*** installing help indices
** building package indices ...
** testing if installed package can be loaded
* DONE (MEEBOdata)