| Back to the "Multiple platform build/check report" |
| Package 74/83 | Hostname | OS / Arch | BUILD | CHECK | BUILD BIN | ||||
| SpikeInSubset 1.2.8 Rafael A. Irizarry
| wilson1 | Linux (openSUSE 11.1) / x86_64 | OK | OK | |||||
| liverpool | Windows Server 2003 R2 (32-bit) / x64 | OK | OK | OK | |||||
| pelham | Mac OS X Leopard (10.5.8) / i386 | [ OK ] | OK | OK |
| Package: SpikeInSubset |
| Version: 1.2.8 |
| Command: /Library/Frameworks/R.framework/Versions/2.11/Resources/bin/R CMD build SpikeInSubset |
| StartedAt: 2010-09-24 02:04:54 -0700 (Fri, 24 Sep 2010) |
| EndedAt: 2010-09-24 02:05:05 -0700 (Fri, 24 Sep 2010) |
| EllapsedTime: 11.2 seconds |
| RetCode: 0 |
| Status: OK |
| PackageFile: SpikeInSubset_1.2.8.tar.gz |
| PackageFileSize: 17.99 MiB |
* checking for file 'SpikeInSubset/DESCRIPTION' ... OK * preparing 'SpikeInSubset': * checking DESCRIPTION meta-information ... OK * removing junk files * checking for LF line-endings in source and make files * checking for empty or unneeded directories * building 'SpikeInSubset_1.2.8.tar.gz'