| Back to the "Multiple platform build/check report" |
| Package 18/83 | Hostname | OS / Arch | BUILD | CHECK | BUILD BIN | ||||
| dyebiasexamples 1.0.6 Philip Lijnzaad
| wilson1 | Linux (openSUSE 11.1) / x86_64 | OK | OK | |||||
| liverpool | Windows Server 2003 R2 (32-bit) / x64 | [ OK ] | OK | OK | |||||
| pelham | Mac OS X Leopard (10.5.8) / i386 | OK | OK | OK |
| Package: dyebiasexamples |
| Version: 1.0.6 |
| Command: chmod a+r dyebiasexamples -R && E:\biocbld\bbs-2.6-bioc\R\bin\R.exe CMD build dyebiasexamples |
| StartedAt: 2010-09-24 03:23:54 -0700 (Fri, 24 Sep 2010) |
| EndedAt: 2010-09-24 03:24:10 -0700 (Fri, 24 Sep 2010) |
| EllapsedTime: 15.5 seconds |
| RetCode: 0 |
| Status: OK |
| PackageFile: dyebiasexamples_1.0.6.tar.gz |
| PackageFileSize: 15.2 MiB |
* checking for file 'dyebiasexamples/DESCRIPTION' ... OK * preparing 'dyebiasexamples': * checking DESCRIPTION meta-information ... OK * removing junk files * checking for LF line-endings in source and make files * checking for empty or unneeded directories * building 'dyebiasexamples_1.0.6.tar.gz'