| Back to the "Multiple platform build/check report" |
| Package 29/83 | Hostname | OS / Arch | BUILD | CHECK | BUILD BIN | ||||
| gcspikelite 1.0.2 Mark Robinson
| wilson1 | Linux (openSUSE 11.1) / x86_64 | OK | OK | |||||
| liverpool | Windows Server 2003 R2 (32-bit) / x64 | OK | OK | OK | |||||
| pelham | Mac OS X Leopard (10.5.8) / i386 | [ OK ] | OK | OK |
| Package: gcspikelite |
| Version: 1.0.2 |
| Command: /Library/Frameworks/R.framework/Versions/2.11/Resources/bin/R CMD build gcspikelite |
| StartedAt: 2010-09-24 02:27:42 -0700 (Fri, 24 Sep 2010) |
| EndedAt: 2010-09-24 02:30:42 -0700 (Fri, 24 Sep 2010) |
| EllapsedTime: 179.7 seconds |
| RetCode: 0 |
| Status: OK |
| PackageFile: gcspikelite_1.0.2.tar.gz |
| PackageFileSize: 21.6 MiB |
* checking for file 'gcspikelite/DESCRIPTION' ... OK * preparing 'gcspikelite': * checking DESCRIPTION meta-information ... OK * removing junk files * checking for LF line-endings in source and make files * checking for empty or unneeded directories * building 'gcspikelite_1.0.2.tar.gz'