| name | user | system | elapsed
|
| anoCar1.ensGene.LENGTH | 0.116 | 0.004 | 0.118 |
|
| anoCar1.genscan.LENGTH | 0.072 | 0.032 | 0.103 |
|
| anoCar1.xenoRefGene.LENGTH | 1.968 | 0.028 | 1.995 |
|
| anoGam1.ensGene.LENGTH | 0.412 | 0.032 | 0.444 |
|
| anoGam1.geneid.LENGTH | 0.060 | 0.028 | 0.087 |
|
| anoGam1.genscan.LENGTH | 0.052 | 0.040 | 0.351 |
|
| apiMel1.genscan.LENGTH | 0.068 | 0.012 | 0.078 |
|
| apiMel2.ensGene.LENGTH | 0.104 | 0.020 | 0.125 |
|
| apiMel2.geneid.LENGTH | 0.040 | 0.056 | 0.094 |
|
| apiMel2.genscan.LENGTH | 0.052 | 0.020 | 0.074 |
|
| aplCal1.xenoRefGene.LENGTH | 0.544 | 0.028 | 0.570 |
|
| bosTau2.geneSymbol.LENGTH | 0.052 | 0.024 | 0.077 |
|
| bosTau2.geneid.LENGTH | 0.416 | 0.016 | 0.435 |
|
| bosTau2.genscan.LENGTH | 0.556 | 0.036 | 0.594 |
|
| bosTau2.refGene.LENGTH | 0.060 | 0.012 | 0.072 |
|
| bosTau2.sgpGene.LENGTH | 0.124 | 0.012 | 0.135 |
|
| bosTau3.ensGene.LENGTH | 0.136 | 0.016 | 0.152 |
|
| bosTau3.geneSymbol.LENGTH | 0.044 | 0.020 | 0.065 |
|
| bosTau3.geneid.LENGTH | 0.196 | 0.024 | 0.219 |
|
| bosTau3.genscan.LENGTH | 0.100 | 0.016 | 0.117 |
|
| bosTau3.refGene.LENGTH | 0.032 | 0.032 | 0.067 |
|
| bosTau3.sgpGene.LENGTH | 0.148 | 0.040 | 0.187 |
|
| bosTau4.ensGene.LENGTH | 0.216 | 0.028 | 0.244 |
|
| bosTau4.geneSymbol.LENGTH | 0.040 | 0.020 | 0.063 |
|
| bosTau4.genscan.LENGTH | 0.100 | 0.012 | 0.112 |
|
| bosTau4.nscanGene.LENGTH | 0.040 | 0.024 | 0.063 |
|
| bosTau4.refGene.LENGTH | 0.052 | 0.008 | 0.062 |
|
| braFlo1.xenoRefGene.LENGTH | 0.736 | 0.032 | 0.768 |
|
| caeJap1.xenoRefGene.LENGTH | 0.412 | 0.000 | 0.428 |
|
| caePb1.xenoRefGene.LENGTH | 0.600 | 0.008 | 0.608 |
|
| caePb2.xenoRefGene.LENGTH | 0.592 | 0.040 | 0.629 |
|
| caeRem2.xenoRefGene.LENGTH | 0.464 | 0.004 | 0.470 |
|
| caeRem3.xenoRefGene.LENGTH | 0.464 | 0.024 | 0.489 |
|
| calJac1.genscan.LENGTH | 0.196 | 0.040 | 0.236 |
|
| calJac1.nscanGene.LENGTH | 0.140 | 0.000 | 0.138 |
|
| calJac1.xenoRefGene.LENGTH | 1.181 | 0.012 | 1.190 |
|
| canFam1.ensGene.LENGTH | 0.128 | 0.012 | 0.139 |
|
| canFam1.geneSymbol.LENGTH | 0.092 | 0.000 | 0.091 |
|
| canFam1.genscan.LENGTH | 0.092 | 0.004 | 0.099 |
|
| canFam1.nscanGene.LENGTH | 0.164 | 0.008 | 0.175 |
|
| canFam1.refGene.LENGTH | 0.016 | 0.000 | 0.016 |
|
| canFam1.xenoRefGene.LENGTH | 0.724 | 0.028 | 0.788 |
|
| canFam2.ensGene.LENGTH | 0.188 | 0.016 | 0.207 |
|
| canFam2.geneSymbol.LENGTH | 0.016 | 0.000 | 0.016 |
|
| canFam2.genscan.LENGTH | 0.072 | 0.020 | 0.095 |
|
| canFam2.nscanGene.LENGTH | 0.080 | 0.012 | 0.095 |
|
| canFam2.refGene.LENGTH | 0.012 | 0.004 | 0.015 |
|
| canFam2.xenoRefGene.LENGTH | 0.876 | 0.024 | 0.903 |
|
| cavPor3.ensGene.LENGTH | 0.432 | 0.008 | 0.455 |
|
| cavPor3.genscan.LENGTH | 0.112 | 0.024 | 0.135 |
|
| cavPor3.nscanGene.LENGTH | 0.076 | 0.016 | 0.091 |
|
| cavPor3.xenoRefGene.LENGTH | 0.756 | 0.052 | 0.806 |
|
| cb1.xenoRefGene.LENGTH | 0.684 | 0.004 | 0.687 |
|
| cb3.xenoRefGene.LENGTH | 0.396 | 0.020 | 0.416 |
|
| ce2.geneSymbol.LENGTH | 0.096 | 0.036 | 0.132 |
|
| ce2.geneid.LENGTH | 0.520 | 0.004 | 0.528 |
|
| ce2.refGene.LENGTH | 0.084 | 0.036 | 0.121 |
|
| ce4.geneSymbol.LENGTH | 0.088 | 0.036 | 0.121 |
|
| ce4.refGene.LENGTH | 0.068 | 0.052 | 0.160 |
|
| ce4.xenoRefGene.LENGTH | 0.084 | 0.004 | 0.090 |
|
| ce6.ensGene.LENGTH | 0.10 | 0.02 | 0.12 |
|
| ce6.geneSymbol.LENGTH | 0.088 | 0.032 | 0.121 |
|
| ce6.refGene.LENGTH | 0.080 | 0.040 | 0.121 |
|
| ce6.xenoRefGene.LENGTH | 0.108 | 0.008 | 0.114 |
|
| ci1.geneSymbol.LENGTH | 0.012 | 0.004 | 0.015 |
|
| ci1.refGene.LENGTH | 0.008 | 0.004 | 0.014 |
|
| ci1.xenoRefGene.LENGTH | 0.204 | 0.004 | 0.210 |
|
| ci2.ensGene.LENGTH | 0.068 | 0.012 | 0.080 |
|
| ci2.geneSymbol.LENGTH | 0.016 | 0.000 | 0.015 |
|
| ci2.refGene.LENGTH | 0.016 | 0.000 | 0.014 |
|
| ci2.xenoRefGene.LENGTH | 0.392 | 0.008 | 0.402 |
|
| danRer3.ensGene.LENGTH | 0.220 | 0.032 | 0.255 |
|
| danRer3.geneSymbol.LENGTH | 0.072 | 0.024 | 0.096 |
|
| danRer3.refGene.LENGTH | 0.056 | 0.032 | 0.089 |
|
| danRer4.ensGene.LENGTH | 0.148 | 0.004 | 0.151 |
|
| danRer4.geneSymbol.LENGTH | 0.064 | 0.032 | 0.093 |
|
| danRer4.genscan.LENGTH | 0.112 | 0.024 | 0.138 |
|
| danRer4.nscanGene.LENGTH | 0.196 | 0.016 | 0.214 |
|
| danRer4.refGene.LENGTH | 0.384 | 0.028 | 0.409 |
|
| danRer5.ensGene.LENGTH | 0.132 | 0.008 | 0.139 |
|
| danRer5.geneSymbol.LENGTH | 0.064 | 0.020 | 0.085 |
|
| danRer5.refGene.LENGTH | 0.064 | 0.016 | 0.080 |
|
| danRer5.vegaGene.LENGTH | 0.064 | 0.016 | 0.082 |
|
| danRer5.vegaPseudoGene.LENGTH | 0.012 | 0.000 | 0.011 |
|
| danRer6.ensGene.LENGTH | 0.148 | 0.012 | 0.160 |
|
| danRer6.geneSymbol.LENGTH | 0.064 | 0.020 | 0.084 |
|
| danRer6.refGene.LENGTH | 0.076 | 0.004 | 0.082 |
|
| danRer6.xenoRefGene.LENGTH | 0.804 | 0.024 | 0.826 |
|
| dm1.geneSymbol.LENGTH | 0.404 | 0.036 | 0.441 |
|
| dm1.genscan.LENGTH | 0.036 | 0.020 | 0.057 |
|
| dm1.refGene.LENGTH | 0.068 | 0.056 | 0.157 |
|
| dm2.geneSymbol.LENGTH | 0.084 | 0.032 | 0.114 |
|
| dm2.geneid.LENGTH | 0.052 | 0.020 | 0.072 |
|
| dm2.genscan.LENGTH | 0.032 | 0.024 | 0.057 |
|
| dm2.nscanGene.LENGTH | 0.056 | 0.004 | 0.062 |
|
| dm2.refGene.LENGTH | 0.072 | 0.040 | 0.110 |
|
| dm3.geneSymbol.LENGTH | 0.076 | 0.008 | 0.083 |
|
| dm3.nscanPasaGene.LENGTH | 0.068 | 0.024 | 0.094 |
|
| dm3.refGene.LENGTH | 0.076 | 0.000 | 0.077 |
|
| downloadLengthFromUCSC | 52.799 | 0.752 | 77.300 |
|
| dp2.genscan.LENGTH | 0.045 | 0.024 | 0.069 |
|
| dp2.xenoRefGene.LENGTH | 0.288 | 0.028 | 0.320 |
|
| dp3.geneid.LENGTH | 0.064 | 0.024 | 0.088 |
|
| dp3.genscan.LENGTH | 0.048 | 0.016 | 0.064 |
|
| dp3.xenoRefGene.LENGTH | 0.140 | 0.032 | 0.171 |
|
| droAna1.geneid.LENGTH | 0.092 | 0.016 | 0.106 |
|
| droAna1.genscan.LENGTH | 0.032 | 0.024 | 0.054 |
|
| droAna1.xenoRefGene.LENGTH | 0.256 | 0.032 | 0.288 |
|
| droAna2.genscan.LENGTH | 0.072 | 0.004 | 0.076 |
|
| droAna2.xenoRefGene.LENGTH | 0.344 | 0.052 | 0.397 |
|
| droEre1.genscan.LENGTH | 0.044 | 0.024 | 0.069 |
|
| droEre1.xenoRefGene.LENGTH | 0.344 | 0.032 | 0.375 |
|
| droGri1.genscan.LENGTH | 0.056 | 0.032 | 0.089 |
|
| droGri1.xenoRefGene.LENGTH | 0.348 | 0.012 | 0.363 |
|
| droMoj1.geneid.LENGTH | 0.432 | 0.024 | 0.457 |
|
| droMoj1.genscan.LENGTH | 0.072 | 0.004 | 0.076 |
|
| droMoj1.xenoRefGene.LENGTH | 0.288 | 0.044 | 0.330 |
|
| droMoj2.genscan.LENGTH | 0.052 | 0.028 | 0.081 |
|
| droMoj2.xenoRefGene.LENGTH | 0.372 | 0.052 | 0.420 |
|
| droPer1.genscan.LENGTH | 0.072 | 0.020 | 0.094 |
|
| droPer1.xenoRefGene.LENGTH | 0.464 | 0.044 | 0.509 |
|
| droSec1.genscan.LENGTH | 0.052 | 0.020 | 0.072 |
|
| droSec1.xenoRefGene.LENGTH | 0.592 | 0.008 | 0.598 |
|
| droSim1.geneid.LENGTH | 0.076 | 0.012 | 0.087 |
|
| droSim1.genscan.LENGTH | 0.044 | 0.020 | 0.063 |
|
| droSim1.xenoRefGene.LENGTH | 0.332 | 0.024 | 0.358 |
|
| droVir1.geneid.LENGTH | 0.148 | 0.016 | 0.166 |
|
| droVir1.genscan.LENGTH | 0.084 | 0.024 | 0.106 |
|
| droVir1.xenoRefGene.LENGTH | 0.364 | 0.036 | 0.451 |
|
| droVir2.genscan.LENGTH | 0.060 | 0.020 | 0.084 |
|
| droVir2.xenoRefGene.LENGTH | 0.452 | 0.024 | 0.564 |
|
| droYak1.geneid.LENGTH | 0.068 | 0.032 | 0.102 |
|
| droYak1.genscan.LENGTH | 0.056 | 0.020 | 0.079 |
|
| droYak1.xenoRefGene.LENGTH | 0.320 | 0.004 | 0.368 |
|
| droYak2.genscan.LENGTH | 0.052 | 0.020 | 0.079 |
|
| droYak2.xenoRefGene.LENGTH | 0.448 | 0.056 | 0.548 |
|
| equCab1.geneSymbol.LENGTH | 0.012 | 0.000 | 0.019 |
|
| equCab1.geneid.LENGTH | 0.14 | 0.02 | 0.17 |
|
| equCab1.nscanGene.LENGTH | 0.060 | 0.032 | 0.137 |
|
| equCab1.refGene.LENGTH | 0.016 | 0.000 | 0.016 |
|
| equCab1.sgpGene.LENGTH | 0.088 | 0.012 | 0.112 |
|
| equCab2.ensGene.LENGTH | 0.180 | 0.028 | 0.244 |
|
| equCab2.geneSymbol.LENGTH | 0.016 | 0.000 | 0.021 |
|
| equCab2.nscanGene.LENGTH | 0.088 | 0.036 | 0.135 |
|
| equCab2.refGene.LENGTH | 0.016 | 0.004 | 0.020 |
|
| equCab2.xenoRefGene.LENGTH | 0.808 | 0.024 | 0.910 |
|
| felCat3.ensGene.LENGTH | 0.164 | 0.000 | 0.215 |
|
| felCat3.geneSymbol.LENGTH | 0.012 | 0.004 | 0.014 |
|
| felCat3.geneid.LENGTH | 0.948 | 0.056 | 1.070 |
|
| felCat3.genscan.LENGTH | 0.172 | 0.020 | 0.205 |
|
| felCat3.nscanGene.LENGTH | 0.140 | 0.016 | 0.164 |
|
| felCat3.refGene.LENGTH | 0.016 | 0.000 | 0.014 |
|
| felCat3.sgpGene.LENGTH | 0.164 | 0.032 | 0.236 |
|
| felCat3.xenoRefGene.LENGTH | 1.572 | 0.044 | 1.705 |
|
| fr1.ensGene.LENGTH | 0.608 | 0.040 | 0.668 |
|
| fr1.genscan.LENGTH | 0.08 | 0.02 | 0.10 |
|
| fr2.ensGene.LENGTH | 0.220 | 0.040 | 0.285 |
|
| galGal2.ensGene.LENGTH | 0.076 | 0.008 | 0.088 |
|
| galGal2.geneSymbol.LENGTH | 0.028 | 0.008 | 0.036 |
|
| galGal2.geneid.LENGTH | 0.052 | 0.036 | 0.095 |
|
| galGal2.genscan.LENGTH | 0.080 | 0.044 | 0.187 |
|
| galGal2.refGene.LENGTH | 0.032 | 0.004 | 0.035 |
|
| galGal2.sgpGene.LENGTH | 0.076 | 0.024 | 0.100 |
|
| galGal3.ensGene.LENGTH | 0.108 | 0.004 | 0.110 |
|
| galGal3.geneSymbol.LENGTH | 0.028 | 0.004 | 0.034 |
|
| galGal3.genscan.LENGTH | 0.068 | 0.044 | 0.112 |
|
| galGal3.nscanGene.LENGTH | 0.092 | 0.000 | 0.093 |
|
| galGal3.refGene.LENGTH | 0.024 | 0.012 | 0.033 |
|
| galGal3.xenoRefGene.LENGTH | 0.624 | 0.020 | 0.644 |
|
| gasAcu1.ensGene.LENGTH | 0.120 | 0.028 | 0.149 |
|
| gasAcu1.nscanGene.LENGTH | 0.136 | 0.036 | 0.169 |
|
| hg16.acembly.LENGTH | 0.516 | 0.028 | 0.546 |
|
| hg16.ensGene.LENGTH | 0.104 | 0.008 | 0.112 |
|
| hg16.exoniphy.LENGTH | 0.700 | 0.032 | 0.734 |
|
| hg16.geneSymbol.LENGTH | 0.128 | 0.012 | 0.143 |
|
| hg16.geneid.LENGTH | 0.064 | 0.048 | 0.115 |
|
| hg16.genscan.LENGTH | 0.092 | 0.012 | 0.106 |
|
| hg16.knownGene.LENGTH | 0.585 | 0.048 | 0.630 |
|
| hg16.refGene.LENGTH | 0.124 | 0.012 | 0.136 |
|
| hg16.sgpGene.LENGTH | 0.096 | 0.004 | 0.100 |
|
| hg17.acembly.LENGTH | 1.188 | 0.020 | 1.209 |
|
| hg17.acescan.LENGTH | 0.012 | 0.012 | 0.026 |
|
| hg17.ccdsGene.LENGTH | 0.044 | 0.012 | 0.058 |
|
| hg17.ensGene.LENGTH | 0.148 | 0.016 | 0.167 |
|
| hg17.exoniphy.LENGTH | 0.504 | 0.020 | 0.546 |
|
| hg17.geneSymbol.LENGTH | 0.116 | 0.016 | 0.132 |
|
| hg17.geneid.LENGTH | 1.064 | 0.016 | 1.083 |
|
| hg17.genscan.LENGTH | 0.076 | 0.016 | 0.091 |
|
| hg17.knownGene.LENGTH | 0.120 | 0.020 | 0.138 |
|
| hg17.refGene.LENGTH | 0.096 | 0.020 | 0.114 |
|
| hg17.sgpGene.LENGTH | 0.080 | 0.024 | 0.105 |
|
| hg17.vegaGene.LENGTH | 0.048 | 0.024 | 0.069 |
|
| hg17.vegaPseudoGene.LENGTH | 0.028 | 0.004 | 0.033 |
|
| hg17.xenoRefGene.LENGTH | 0.228 | 0.020 | 0.247 |
|
| hg18.acembly.LENGTH | 0.496 | 0.024 | 0.520 |
|
| hg18.acescan.LENGTH | 0.028 | 0.000 | 0.025 |
|
| hg18.ccdsGene.LENGTH | 0.052 | 0.020 | 0.073 |
|
| hg18.ensGene.LENGTH | 0.220 | 0.020 | 0.239 |
|
| hg18.exoniphy.LENGTH | 0.456 | 0.048 | 0.507 |
|
| hg18.geneSymbol.LENGTH | 0.112 | 0.016 | 0.126 |
|
| hg18.geneid.LENGTH | 0.084 | 0.024 | 0.109 |
|
| hg18.genscan.LENGTH | 0.084 | 0.012 | 0.093 |
|
| hg18.knownGene.LENGTH | 0.184 | 0.012 | 0.195 |
|
| hg18.knownGeneOld3.LENGTH | 0.096 | 0.028 | 0.125 |
|
| hg18.refGene.LENGTH | 0.104 | 0.024 | 0.125 |
|
| hg18.sgpGene.LENGTH | 0.104 | 0.016 | 0.119 |
|
| hg18.sibGene.LENGTH | 0.392 | 0.028 | 0.421 |
|
| hg18.xenoRefGene.LENGTH | 0.464 | 0.040 | 0.501 |
|
| hg19.ccdsGene.LENGTH | 0.064 | 0.028 | 0.092 |
|
| hg19.ensGene.LENGTH | 0.380 | 0.036 | 0.414 |
|
| hg19.exoniphy.LENGTH | 0.444 | 0.052 | 0.497 |
|
| hg19.geneSymbol.LENGTH | 0.116 | 0.012 | 0.128 |
|
| hg19.knownGene.LENGTH | 0.200 | 0.036 | 0.238 |
|
| hg19.nscanGene.LENGTH | 0.588 | 0.008 | 0.594 |
|
| hg19.refGene.LENGTH | 0.120 | 0.016 | 0.134 |
|
| hg19.xenoRefGene.LENGTH | 0.420 | 0.004 | 0.424 |
|
| loxAfr3.xenoRefGene.LENGTH | 0.980 | 0.016 | 0.994 |
|
| mm7.ensGene.LENGTH | 0.148 | 0.004 | 0.291 |
|
| mm7.geneSymbol.LENGTH | 0.124 | 0.004 | 0.129 |
|
| mm7.geneid.LENGTH | 0.124 | 0.016 | 0.140 |
|
| mm7.genscan.LENGTH | 0.100 | 0.016 | 0.116 |
|
| mm7.knownGene.LENGTH | 0.152 | 0.008 | 0.161 |
|
| mm7.refGene.LENGTH | 0.108 | 0.008 | 0.113 |
|
| mm7.sgpGene.LENGTH | 0.116 | 0.016 | 0.134 |
|
| mm7.xenoRefGene.LENGTH | 0.412 | 0.028 | 0.442 |
|
| mm8.ccdsGene.LENGTH | 0.040 | 0.016 | 0.053 |
|
| mm8.ensGene.LENGTH | 0.096 | 0.016 | 0.114 |
|
| mm8.geneSymbol.LENGTH | 0.096 | 0.004 | 0.102 |
|
| mm8.geneid.LENGTH | 0.108 | 0.016 | 0.122 |
|
| mm8.genscan.LENGTH | 0.084 | 0.008 | 0.091 |
|
| mm8.knownGene.LENGTH | 0.128 | 0.008 | 0.156 |
|
| mm8.nscanGene.LENGTH | 0.084 | 0.000 | 0.083 |
|
| mm8.refGene.LENGTH | 0.092 | 0.004 | 0.097 |
|
| mm8.sgpGene.LENGTH | 0.100 | 0.024 | 0.121 |
|
| mm8.sibGene.LENGTH | 0.640 | 0.016 | 0.670 |
|
| mm8.xenoRefGene.LENGTH | 0.460 | 0.024 | 0.486 |
|
| mm9.acembly.LENGTH | 0.448 | 0.012 | 0.461 |
|
| mm9.ccdsGene.LENGTH | 0.060 | 0.008 | 0.069 |
|
| mm9.ensGene.LENGTH | 0.184 | 0.032 | 0.216 |
|
| mm9.exoniphy.LENGTH | 1.268 | 0.036 | 1.467 |
|
| mm9.geneSymbol.LENGTH | 0.108 | 0.004 | 0.110 |
|
| mm9.geneid.LENGTH | 0.108 | 0.028 | 0.162 |
|
| mm9.genscan.LENGTH | 0.089 | 0.016 | 0.108 |
|
| mm9.knownGene.LENGTH | 0.148 | 0.032 | 0.187 |
|
| mm9.nscanGene.LENGTH | 0.076 | 0.008 | 0.084 |
|
| mm9.refGene.LENGTH | 0.100 | 0.004 | 0.103 |
|
| mm9.sgpGene.LENGTH | 0.116 | 0.012 | 0.128 |
|
| mm9.xenoRefGene.LENGTH | 0.464 | 0.036 | 0.518 |
|
| monDom1.genscan.LENGTH | 0.088 | 0.020 | 0.107 |
|
| monDom4.ensGene.LENGTH | 0.104 | 0.008 | 0.114 |
|
| monDom4.geneSymbol.LENGTH | 0.012 | 0.004 | 0.013 |
|
| monDom4.genscan.LENGTH | 0.096 | 0.028 | 0.123 |
|
| monDom4.nscanGene.LENGTH | 1.012 | 0.016 | 1.030 |
|
| monDom4.refGene.LENGTH | 0.012 | 0.000 | 0.012 |
|
| monDom4.xenoRefGene.LENGTH | 0.404 | 0.016 | 0.422 |
|
| monDom5.ensGene.LENGTH | 0.116 | 0.004 | 0.120 |
|
| monDom5.geneSymbol.LENGTH | 0.012 | 0.000 | 0.013 |
|
| monDom5.genscan.LENGTH | 0.060 | 0.008 | 0.068 |
|
| monDom5.nscanGene.LENGTH | 0.124 | 0.008 | 0.130 |
|
| monDom5.refGene.LENGTH | 0.012 | 0.000 | 0.012 |
|
| monDom5.xenoRefGene.LENGTH | 0.644 | 0.028 | 0.672 |
|
| ornAna1.ensGene.LENGTH | 0.112 | 0.020 | 0.187 |
|
| ornAna1.geneSymbol.LENGTH | 0.008 | 0.000 | 0.011 |
|
| ornAna1.refGene.LENGTH | 0.008 | 0.000 | 0.010 |
|
| ornAna1.xenoRefGene.LENGTH | 0.608 | 0.032 | 0.638 |
|
| oryLat2.ensGene.LENGTH | 0.096 | 0.012 | 0.106 |
|
| oryLat2.geneSymbol.LENGTH | 0.012 | 0.000 | 0.013 |
|
| oryLat2.refGene.LENGTH | 0.016 | 0.000 | 0.013 |
|
| oryLat2.xenoRefGene.LENGTH | 0.564 | 0.024 | 0.592 |
|
| panTro1.ensGene.LENGTH | 0.116 | 0.020 | 0.135 |
|
| panTro1.geneid.LENGTH | 0.068 | 0.044 | 0.110 |
|
| panTro1.genscan.LENGTH | 0.072 | 0.016 | 0.087 |
|
| panTro1.xenoRefGene.LENGTH | 0.136 | 0.020 | 0.155 |
|
| panTro2.ensGene.LENGTH | 0.120 | 0.020 | 0.142 |
|
| panTro2.geneSymbol.LENGTH | 0.116 | 0.016 | 0.132 |
|
| panTro2.genscan.LENGTH | 0.068 | 0.020 | 0.089 |
|
| panTro2.nscanGene.LENGTH | 0.072 | 0.008 | 0.081 |
|
| panTro2.refGene.LENGTH | 0.116 | 0.012 | 0.131 |
|
| panTro2.xenoRefGene.LENGTH | 0.572 | 0.012 | 0.588 |
|
| petMar1.xenoRefGene.LENGTH | 0.300 | 0.044 | 0.346 |
|
| ponAbe2.ensGene.LENGTH | 0.112 | 0.012 | 0.156 |
|
| ponAbe2.geneSymbol.LENGTH | 0.028 | 0.000 | 0.028 |
|
| ponAbe2.genscan.LENGTH | 0.080 | 0.008 | 0.089 |
|
| ponAbe2.nscanGene.LENGTH | 0.072 | 0.004 | 0.077 |
|
| ponAbe2.refGene.LENGTH | 0.016 | 0.008 | 0.027 |
|
| ponAbe2.xenoRefGene.LENGTH | 0.732 | 0.012 | 0.741 |
|
| priPac1.xenoRefGene.LENGTH | 0.444 | 0.016 | 0.589 |
|
| rheMac2.ensGene.LENGTH | 0.164 | 0.012 | 0.178 |
|
| rheMac2.geneSymbol.LENGTH | 0.012 | 0.004 | 0.016 |
|
| rheMac2.geneid.LENGTH | 0.084 | 0.020 | 0.104 |
|
| rheMac2.nscanGene.LENGTH | 0.072 | 0.008 | 0.084 |
|
| rheMac2.refGene.LENGTH | 0.012 | 0.000 | 0.015 |
|
| rheMac2.sgpGene.LENGTH | 0.088 | 0.012 | 0.102 |
|
| rheMac2.xenoRefGene.LENGTH | 0.644 | 0.008 | 0.650 |
|
| rn3.ensGene.LENGTH | 0.124 | 0.024 | 0.149 |
|
| rn3.geneSymbol.LENGTH | 0.076 | 0.020 | 0.096 |
|
| rn3.geneid.LENGTH | 0.072 | 0.004 | 0.076 |
|
| rn3.genscan.LENGTH | 0.080 | 0.020 | 0.098 |
|
| rn3.knownGene.LENGTH | 0.040 | 0.008 | 0.049 |
|
| rn3.nscanGene.LENGTH | 0.072 | 0.004 | 0.074 |
|
| rn3.refGene.LENGTH | 0.056 | 0.036 | 0.094 |
|
| rn3.sgpGene.LENGTH | 0.080 | 0.012 | 0.092 |
|
| rn3.xenoRefGene.LENGTH | 0.748 | 0.044 | 0.792 |
|
| rn4.ensGene.LENGTH | 0.592 | 0.008 | 0.600 |
|
| rn4.geneSymbol.LENGTH | 0.100 | 0.016 | 0.114 |
|
| rn4.geneid.LENGTH | 0.124 | 0.032 | 0.153 |
|
| rn4.genscan.LENGTH | 0.100 | 0.012 | 0.112 |
|
| rn4.knownGene.LENGTH | 0.044 | 0.012 | 0.055 |
|
| rn4.nscanGene.LENGTH | 0.104 | 0.020 | 0.124 |
|
| rn4.refGene.LENGTH | 0.092 | 0.020 | 0.109 |
|
| rn4.sgpGene.LENGTH | 0.104 | 0.032 | 0.137 |
|
| rn4.xenoRefGene.LENGTH | 0.616 | 0.040 | 0.655 |
|
| sacCer1.ensGene.LENGTH | 0.032 | 0.016 | 0.048 |
|
| sacCer2.ensGene.LENGTH | 0.040 | 0.012 | 0.101 |
|
| strPur1.geneSymbol.LENGTH | 0.012 | 0.004 | 0.015 |
|
| strPur1.genscan.LENGTH | 0.144 | 0.024 | 0.166 |
|
| strPur1.refGene.LENGTH | 0.004 | 0.012 | 0.016 |
|
| strPur1.xenoRefGene.LENGTH | 0.864 | 0.024 | 0.894 |
|
| strPur2.geneSymbol.LENGTH | 0.016 | 0.000 | 0.014 |
|
| strPur2.genscan.LENGTH | 0.168 | 0.016 | 0.183 |
|
| strPur2.refGene.LENGTH | 0.012 | 0.004 | 0.014 |
|
| strPur2.xenoRefGene.LENGTH | 1.052 | 0.024 | 1.076 |
|
| supportedGeneIDs | 0.012 | 0.000 | 0.012 |
|
| supportedGenomes | 0.040 | 0.000 | 0.159 |
|
| taeGut1.ensGene.LENGTH | 0.076 | 0.004 | 0.083 |
|
| taeGut1.geneSymbol.LENGTH | 0.008 | 0.000 | 0.011 |
|
| taeGut1.genscan.LENGTH | 0.052 | 0.020 | 0.073 |
|
| taeGut1.nscanGene.LENGTH | 0.040 | 0.016 | 0.054 |
|
| taeGut1.refGene.LENGTH | 0.012 | 0.000 | 0.011 |
|
| taeGut1.xenoRefGene.LENGTH | 0.464 | 0.016 | 0.481 |
|
| tetNig1.ensGene.LENGTH | 0.100 | 0.032 | 0.130 |
|
| tetNig1.geneid.LENGTH | 0.080 | 0.012 | 0.094 |
|
| tetNig1.genscan.LENGTH | 0.096 | 0.012 | 0.107 |
|
| tetNig1.nscanGene.LENGTH | 0.337 | 0.016 | 0.354 |
|
| tetNig2.ensGene.LENGTH | 0.084 | 0.016 | 0.100 |
|
| unfactor | 0.004 | 0.000 | 0.005 |
|
| xenTro1.genscan.LENGTH | 0.112 | 0.000 | 0.112 |
|
| xenTro2.ensGene.LENGTH | 0.108 | 0.020 | 0.126 |
|
| xenTro2.geneSymbol.LENGTH | 0.060 | 0.000 | 0.059 |
|
| xenTro2.genscan.LENGTH | 0.080 | 0.044 | 0.125 |
|
| xenTro2.refGene.LENGTH | 0.044 | 0.016 | 0.057 |
|