| Back to the "Multiple platform build/check report" |
| Package 39/83 | Hostname | OS / Arch | BUILD | CHECK | BUILD BIN | ||||
| hapmapsnp5 1.3.3 Benilton Carvalho
| wilson1 | Linux (openSUSE 11.1) / x86_64 | [ OK ] | OK | |||||
| liverpool | Windows Server 2003 R2 (32-bit) / x64 | OK | OK | OK | |||||
| pelham | Mac OS X Leopard (10.5.8) / i386 | OK | OK | OK |
| Package: hapmapsnp5 |
| Version: 1.3.3 |
| Command: /home/biocbuild/bbs-2.6-bioc/R/bin/R CMD build hapmapsnp5 |
| StartedAt: 2010-09-24 01:49:12 -0700 (Fri, 24 Sep 2010) |
| EndedAt: 2010-09-24 01:51:26 -0700 (Fri, 24 Sep 2010) |
| EllapsedTime: 134.6 seconds |
| RetCode: 0 |
| Status: OK |
| PackageFile: hapmapsnp5_1.3.3.tar.gz |
| PackageFileSize: 59.41 MiB |
* checking for file 'hapmapsnp5/DESCRIPTION' ... OK * preparing 'hapmapsnp5': * checking DESCRIPTION meta-information ... OK * removing junk files * checking for LF line-endings in source and make files * checking for empty or unneeded directories * building 'hapmapsnp5_1.3.3.tar.gz'