| Back to the "Multiple platform build/check report" |
| Package 57/83 | Hostname | OS / Arch | BUILD | CHECK | BUILD BIN | ||||
| lungExpression 0.0.10 Robert Scharpf
| wilson1 | Linux (openSUSE 11.1) / x86_64 | OK | OK | |||||
| liverpool | Windows Server 2003 R2 (32-bit) / x64 | OK | OK | OK | |||||
| pelham | Mac OS X Leopard (10.5.8) / i386 | [ OK ] | OK | OK |
| Package: lungExpression |
| Version: 0.0.10 |
| Command: /Library/Frameworks/R.framework/Versions/2.11/Resources/bin/R CMD build lungExpression |
| StartedAt: 2010-09-24 02:05:28 -0700 (Fri, 24 Sep 2010) |
| EndedAt: 2010-09-24 02:05:31 -0700 (Fri, 24 Sep 2010) |
| EllapsedTime: 3.3 seconds |
| RetCode: 0 |
| Status: OK |
| PackageFile: lungExpression_0.0.10.tar.gz |
| PackageFileSize: 5.681 MiB |
* checking for file 'lungExpression/DESCRIPTION' ... OK * preparing 'lungExpression': * checking DESCRIPTION meta-information ... OK * removing junk files * checking for LF line-endings in source and make files * checking for empty or unneeded directories * building 'lungExpression_0.0.10.tar.gz'