| Back to the "Multiple platform build/check report" |
| Package 65/83 | Hostname | OS / Arch | BUILD | CHECK | BUILD BIN | ||||
| msdata 0.1.4 Steffen Neumann
| wilson1 | Linux (openSUSE 11.1) / x86_64 | OK | OK | |||||
| liverpool | Windows Server 2003 R2 (32-bit) / x64 | OK | OK | [ OK ] | |||||
| pelham | Mac OS X Leopard (10.5.8) / i386 | OK | OK | OK |
| Package: msdata |
| Version: 0.1.4 |
| Command: E:\biocbld\bbs-2.6-bioc\R\bin\R.exe CMD INSTALL --build --library=msdata.buildbin-libdir msdata_0.1.4.tar.gz |
| StartedAt: 2010-09-24 05:40:21 -0700 (Fri, 24 Sep 2010) |
| EndedAt: 2010-09-24 05:40:31 -0700 (Fri, 24 Sep 2010) |
| EllapsedTime: 11.0 seconds |
| RetCode: 0 |
| Status: OK |
| PackageFile: msdata_0.1.4.zip |
| PackageFileSize: 6.564 MiB |
* installing *source* package 'msdata' ... ** R ** data ** inst ** preparing package for lazy loading ** help *** installing help indices ** building package indices ... ** testing if installed package can be loaded * MD5 sums packaged installation of 'msdata' as msdata_0.1.4.zip * DONE (msdata)