| Back to the "Multiple platform build/check report" |
| Package 66/83 | Hostname | OS / Arch | BUILD | CHECK | BUILD BIN | ||||
| mvoutData 0.99.4 VJ Carey
| wilson1 | Linux (openSUSE 11.1) / x86_64 | OK | OK | |||||
| liverpool | Windows Server 2003 R2 (32-bit) / x64 | OK | OK | OK | |||||
| pelham | Mac OS X Leopard (10.5.8) / i386 | OK | OK | [ OK ] |
| Package: mvoutData |
| Version: 0.99.4 |
| Command: /Users/biocbuild/BBS/utils/build-universal.sh mvoutData_0.99.4.tar.gz /Library/Frameworks/R.framework/Versions/2.11/Resources/bin/R mvoutData.buildbin-libdir |
| StartedAt: 2010-09-24 04:46:27 -0700 (Fri, 24 Sep 2010) |
| EndedAt: 2010-09-24 04:46:57 -0700 (Fri, 24 Sep 2010) |
| EllapsedTime: 29.8 seconds |
| RetCode: 0 |
| Status: OK |
| PackageFile: mvoutData_0.99.4.tgz |
| PackageFileSize: 14.19 MiB |
INSTALLATION WITH 'R CMD INSTALL --preclean --library=mvoutData.buildbin-libdir mvoutData_0.99.4.tar.gz'
* installing *source* package ‘mvoutData’ ...
** data
** help
*** installing help indices
** building package indices ...
** testing if installed package can be loaded
* DONE (mvoutData)