| Back to the "Multiple platform build/check report" |
| Package 82/83 | Hostname | OS / Arch | BUILD | CHECK | BUILD BIN | ||||
| yeastGSData 0.1.5 R. Gentleman
| wilson1 | Linux (openSUSE 11.1) / x86_64 | [ OK ] | OK | |||||
| liverpool | Windows Server 2003 R2 (32-bit) / x64 | OK | OK | OK | |||||
| pelham | Mac OS X Leopard (10.5.8) / i386 | OK | OK | OK |
| Package: yeastGSData |
| Version: 0.1.5 |
| Command: /home/biocbuild/bbs-2.6-bioc/R/bin/R CMD build yeastGSData |
| StartedAt: 2010-09-24 01:48:52 -0700 (Fri, 24 Sep 2010) |
| EndedAt: 2010-09-24 01:49:11 -0700 (Fri, 24 Sep 2010) |
| EllapsedTime: 19.3 seconds |
| RetCode: 0 |
| Status: OK |
| PackageFile: yeastGSData_0.1.5.tar.gz |
| PackageFileSize: 8.116 MiB |
* checking for file 'yeastGSData/DESCRIPTION' ... OK * preparing 'yeastGSData': * checking DESCRIPTION meta-information ... OK * removing junk files * checking for LF line-endings in source and make files * checking for empty or unneeded directories * building 'yeastGSData_0.1.5.tar.gz'