EatonEtAlChIPseq 0.0.1 Patrick Aboyoun
 | Snapshot Date: 2011-04-06 12:27:26 -0700 (Wed, 06 Apr 2011) |  | URL: https://hedgehog.fhcrc.org/bioc-data/trunk/experiment/pkgs/EatonEtAlChIPseq |  | Last Changed Rev: 1221 / Revision: 1510 |  | Last Changed Date: 2010-05-03 12:16:04 -0700 (Mon, 03 May 2010) |  
  | lamb2  | Linux (openSUSE 11.2) / x86_64  |  OK  |  OK  |  | 
| gewurz  | Windows Server 2008 R2 Enterprise (64-bit) / x64  |  OK  |  OK  |  OK  | 
| petty  | Mac OS X Snow Leopard (10.6.6) / i386  |  OK  |  OK  | [ OK ] | 
>>>>>>> 
>>>>>>> INSTALLATION WITH 'R CMD INSTALL --preclean --library=EatonEtAlChIPseq.buildbin-libdir EatonEtAlChIPseq_0.0.1.tar.gz'
>>>>>>> 
* installing *source* package 'EatonEtAlChIPseq' ...
** data
** inst
** help
*** installing help indices
** building package indices ...
** testing if installed package can be loaded
* DONE (EatonEtAlChIPseq)