MAQCsubsetILM 1.0.2 Laurent Gatto
 | Snapshot Date: 2011-04-06 12:27:26 -0700 (Wed, 06 Apr 2011) |  | URL: https://hedgehog.fhcrc.org/bioc-data/trunk/experiment/pkgs/MAQCsubsetILM |  | Last Changed Rev: 959 / Revision: 1510 |  | Last Changed Date: 2009-09-10 11:19:18 -0700 (Thu, 10 Sep 2009) |  
  | lamb2  | Linux (openSUSE 11.2) / x86_64  | [ OK ] |  OK  |  | 
| gewurz  | Windows Server 2008 R2 Enterprise (64-bit) / x64  |  OK  |  OK  |  OK  | 
| petty  | Mac OS X Snow Leopard (10.6.6) / i386  |  OK  |  OK  |  OK  | 
* checking for file ‘MAQCsubsetILM/DESCRIPTION’ ... OK
* preparing ‘MAQCsubsetILM’:
* checking DESCRIPTION meta-information ... OK
* installing the package to re-build vignettes
* creating vignettes ... OK
* checking for LF line-endings in source and make files
* checking for empty or unneeded directories
* building ‘MAQCsubsetILM_1.0.2.tar.gz’