ProData 1.0.3 Xiaochun Li
 | Snapshot Date: 2011-04-06 12:27:26 -0700 (Wed, 06 Apr 2011) |  | URL: https://hedgehog.fhcrc.org/bioc-data/trunk/experiment/pkgs/ProData |  | Last Changed Rev: 924 / Revision: 1510 |  | Last Changed Date: 2009-07-24 18:53:02 -0700 (Fri, 24 Jul 2009) |  
  | lamb2  | Linux (openSUSE 11.2) / x86_64  |  OK  |  OK  |  | 
| gewurz  | Windows Server 2008 R2 Enterprise (64-bit) / x64  |  OK  |  OK  |  OK  | 
| petty  | Mac OS X Snow Leopard (10.6.6) / i386  |  OK  |  OK  | [ OK ] | 
>>>>>>> 
>>>>>>> INSTALLATION WITH 'R CMD INSTALL --preclean --library=ProData.buildbin-libdir ProData_1.0.3.tar.gz'
>>>>>>> 
* installing *source* package 'ProData' ...
** data
** inst
** help
*** installing help indices
** building package indices ...
** testing if installed package can be loaded
* DONE (ProData)