RNAinteractMAPK 0.99.5 Bernd Fischer
 | Snapshot Date: 2011-04-06 12:27:26 -0700 (Wed, 06 Apr 2011) |  | URL: https://hedgehog.fhcrc.org/bioc-data/trunk/experiment/pkgs/RNAinteractMAPK |  | Last Changed Rev: 1459 / Revision: 1510 |  | Last Changed Date: 2011-03-18 10:40:39 -0700 (Fri, 18 Mar 2011) |  
  | lamb2  | Linux (openSUSE 11.2) / x86_64  | [ ERROR ] |  skipped  |  | 
| gewurz  | Windows Server 2008 R2 Enterprise (64-bit) / x64  |  ERROR  |  skipped  |  skipped  | 
| petty  | Mac OS X Snow Leopard (10.6.6) / i386  |  ERROR  |  skipped  |  skipped  | 
* checking for file ‘RNAinteractMAPK/DESCRIPTION’ ... OK
* preparing ‘RNAinteractMAPK’:
* checking DESCRIPTION meta-information ... OK
* installing the package to re-build vignettes
      -----------------------------------
ERROR: dependency ‘RNAinteract’ is not available for package ‘RNAinteractMAPK’
* removing ‘/tmp/RtmppXnJYi/Rinst1c3b75ab/RNAinteractMAPK’
      -----------------------------------
ERROR: Installation failed
Removing installation dir