| Back to the "Multiple platform build/check report" |
| Package 6/84 | Hostname | OS / Arch | BUILD | CHECK | BUILD BIN | ||||
| beta7 1.0.0 Jean Yang
| lamb2 | Linux (openSUSE 11.2) / x86_64 | OK | WARNINGS | |||||
| liverpool | Windows Server 2003 R2 (32-bit) / x64 | [ OK ] | WARNINGS | OK | |||||
| pelham | Mac OS X Leopard (10.5.8) / i386 | OK | WARNINGS | OK |
| Package: beta7 |
| Version: 1.0.0 |
| Command: chmod a+r beta7 -R && E:\biocbld\bbs-2.7-bioc\R\bin\R.exe CMD build beta7 |
| StartedAt: 2010-11-11 14:28:30 -0800 (Thu, 11 Nov 2010) |
| EndedAt: 2010-11-11 14:28:58 -0800 (Thu, 11 Nov 2010) |
| EllapsedTime: 27.9 seconds |
| RetCode: 0 |
| Status: OK |
| PackageFile: beta7_1.0.0.tar.gz |
| PackageFileSize: 15.18 MiB |
* checking for file 'beta7/DESCRIPTION' ... OK * preparing 'beta7': * checking DESCRIPTION meta-information ... OK * checking for LF line-endings in source and make files * checking for empty or unneeded directories * building 'beta7_1.0.0.tar.gz'