| Back to the "Multiple platform build/check report" |
| Package 7/92 | Hostname | OS / Arch | BUILD | CHECK | BUILD BIN | ||||
| beta7 1.0.0 Jean Yang
| lamb2 | Linux (openSUSE 11.2) / x86_64 | OK | WARNINGS | |||||
| gewurz | Windows Server 2008 R2 Enterprise (64-bit) / x64 | OK | WARNINGS | OK | |||||
| petty | Mac OS X Snow Leopard (10.6.6) / i386 | [ OK ] | WARNINGS | OK |
| Package: beta7 |
| Version: 1.0.0 |
| Command: /Library/Frameworks/R.framework/Versions/2.12/Resources/bin/R CMD build --keep-empty-dirs beta7 |
| StartedAt: 2011-04-06 13:50:05 -0700 (Wed, 06 Apr 2011) |
| EndedAt: 2011-04-06 13:50:37 -0700 (Wed, 06 Apr 2011) |
| EllapsedTime: 32.9 seconds |
| RetCode: 0 |
| Status: OK |
| PackageFile: beta7_1.0.0.tar.gz |
| PackageFileSize: 15.18 MiB |
Warning: unknown option '--keep-empty-dirs' * checking for file 'beta7/DESCRIPTION' ... OK * preparing 'beta7': * checking DESCRIPTION meta-information ... OK * checking for LF line-endings in source and make files * checking for empty or unneeded directories * building 'beta7_1.0.0.tar.gz'