| Back to the "Multiple platform build/check report" |
| Package 12/84 | Hostname | OS / Arch | BUILD | CHECK | BUILD BIN | ||||
| charmData 0.99.3 Martin Aryee
| lamb2 | Linux (openSUSE 11.2) / x86_64 | OK | WARNINGS | |||||
| liverpool | Windows Server 2003 R2 (32-bit) / x64 | [ OK ] | WARNINGS | OK | |||||
| pelham | Mac OS X Leopard (10.5.8) / i386 | OK | WARNINGS | OK |
| Package: charmData |
| Version: 0.99.3 |
| Command: chmod a+r charmData -R && E:\biocbld\bbs-2.7-bioc\R\bin\R.exe CMD build charmData |
| StartedAt: 2010-11-11 15:11:26 -0800 (Thu, 11 Nov 2010) |
| EndedAt: 2010-11-11 15:11:53 -0800 (Thu, 11 Nov 2010) |
| EllapsedTime: 27.5 seconds |
| RetCode: 0 |
| Status: OK |
| PackageFile: charmData_0.99.3.tar.gz |
| PackageFileSize: 15.1 MiB |
* checking for file 'charmData/DESCRIPTION' ... OK * preparing 'charmData': * checking DESCRIPTION meta-information ... OK * checking for LF line-endings in source and make files * checking for empty or unneeded directories * building 'charmData_0.99.3.tar.gz'